BEGIN:VCALENDAR
VERSION:2.0
PRODID:-//Grassroots - ECPv6.15.20//NONSGML v1.0//EN
CALSCALE:GREGORIAN
METHOD:PUBLISH
X-WR-CALNAME:Grassroots
X-ORIGINAL-URL:https://www.grassrootsworkspace.com
X-WR-CALDESC:Events for Grassroots
REFRESH-INTERVAL;VALUE=DURATION:PT1H
X-Robots-Tag:noindex
X-PUBLISHED-TTL:PT1H
BEGIN:VTIMEZONE
TZID:UTC
BEGIN:STANDARD
TZOFFSETFROM:+0000
TZOFFSETTO:+0000
TZNAME:UTC
DTSTART:20220101T000000
END:STANDARD
END:VTIMEZONE
BEGIN:VEVENT
DTSTART;TZID=UTC:20230801T110000
DTEND;TZID=UTC:20230801T140000
DTSTAMP:20260424T153910
CREATED:20230626T131859Z
LAST-MODIFIED:20230626T131859Z
UID:7317-1690887600-1690898400@www.grassrootsworkspace.com
SUMMARY:Ice cream at Grassroots
DESCRIPTION:Escape the scorching heat and surrender to a moment of pure delight with our irresistible ice cream treat. \nOur carefully chosen options cater to all dietary requirements\, leaving no one out in the heat. Whether you’re lactose intolerant\, vegan\, or have other specific needs\, we’ve got you covered. Indulge in guilt-free pleasure as you explore a tantalizing array of dairy-free\, gluten-free\, and nut-free choices. We will be offering both ice cream and sorbets so you are available for a choice. Ensuring that everyone can experience the joy of a frozen paradise. \nSo\,  Maybe take a break from the relentless temperature and let our frozen delights whisk you away to a world of pure bliss. \nOur wonderful staff will come round at various times to offer out these wonderful treats to our members to avoid anyone melting.
URL:https://www.grassrootsworkspace.com/event/ice-cream-at-grassroots/
LOCATION:Grassroots Workspace\, 46 Woodstock Road\, Oxford\, OX2 6HT\, United Kingdom
CATEGORIES:Members Only
ATTACH;FMTTYPE=image/png:https://www.grassrootsworkspace.com/wp-content/uploads/2023/06/Ice-Cream-Treat.png
ORGANIZER;CN="Grassroots":MAILTO:enquiries@grassrootsworkspace.com
END:VEVENT
END:VCALENDAR