BEGIN:VCALENDAR
VERSION:2.0
PRODID:-//Grassroots - ECPv6.15.20//NONSGML v1.0//EN
CALSCALE:GREGORIAN
METHOD:PUBLISH
X-ORIGINAL-URL:https://www.grassrootsworkspace.com
X-WR-CALDESC:Events for Grassroots
REFRESH-INTERVAL;VALUE=DURATION:PT1H
X-Robots-Tag:noindex
X-PUBLISHED-TTL:PT1H
BEGIN:VTIMEZONE
TZID:UTC
BEGIN:STANDARD
TZOFFSETFROM:+0000
TZOFFSETTO:+0000
TZNAME:UTC
DTSTART:20240101T000000
END:STANDARD
END:VTIMEZONE
BEGIN:VEVENT
DTSTART;TZID=UTC:20251126T150000
DTEND;TZID=UTC:20251126T163000
DTSTAMP:20260421T015824
CREATED:20251027T170747Z
LAST-MODIFIED:20251027T170747Z
UID:8025-1764169200-1764174600@www.grassrootsworkspace.com
SUMMARY:🍰 Celebrate National Cake Day with Us! 🍰
DESCRIPTION:Want to have your cake and eat it too? Well\, today you can! \nThe 26th of November marks National Cake Day — a day to celebrate everyone’s favourite sweet treat. \nJoin us from 3pm for a slice (or two!) of delicious cake and enjoy a little afternoon indulgence together. \nLet’s make it a truly sweet occasion!
URL:https://www.grassrootsworkspace.com/event/%f0%9f%8d%b0-celebrate-national-cake-day-with-us-%f0%9f%8d%b0/
LOCATION:Grassroots Workspace\, 46 Woodstock Road\, Oxford\, OX2 6HT\, United Kingdom
ATTACH;FMTTYPE=application/pdf:https://www.grassrootsworkspace.com/wp-content/uploads/2025/10/National-Cake-Day-Poster-.pdf
ORGANIZER;CN="Grassroots":MAILTO:enquiries@grassrootsworkspace.com
END:VEVENT
END:VCALENDAR