BEGIN:VCALENDAR
VERSION:2.0
PRODID:-//Grassroots - ECPv6.15.20//NONSGML v1.0//EN
CALSCALE:GREGORIAN
METHOD:PUBLISH
X-WR-CALNAME:Grassroots
X-ORIGINAL-URL:https://www.grassrootsworkspace.com
X-WR-CALDESC:Events for Grassroots
REFRESH-INTERVAL;VALUE=DURATION:PT1H
X-Robots-Tag:noindex
X-PUBLISHED-TTL:PT1H
BEGIN:VTIMEZONE
TZID:UTC
BEGIN:STANDARD
TZOFFSETFROM:+0000
TZOFFSETTO:+0000
TZNAME:UTC
DTSTART:20240101T000000
END:STANDARD
END:VTIMEZONE
BEGIN:VEVENT
DTSTART;TZID=UTC:20251105T123000
DTEND;TZID=UTC:20251105T143000
DTSTAMP:20260421T015507
CREATED:20251027T170021Z
LAST-MODIFIED:20251027T170021Z
UID:8021-1762345800-1762353000@www.grassrootsworkspace.com
SUMMARY:🔥 Celebrate Guy Fawkes Night at Grassroots! 🔥
DESCRIPTION:Join us in the Grassroots kitchen this Guy Fawkes Night for some cosy\, fireside fun! From 12:30pm\, we’ll be serving up hot chocolate\, making delicious s’mores\, and testing your knowledge with a themed quiz. \nEnjoy an afternoon of treats\, laughter\, and a little friendly competition. \nDon’t miss out — it’s going to be a sparkler of an afternoon!
URL:https://www.grassrootsworkspace.com/event/%f0%9f%94%a5-celebrate-guy-fawkes-night-at-grassroots-%f0%9f%94%a5/
LOCATION:Grassroots Workspace\, 46 Woodstock Road\, Oxford\, OX2 6HT\, United Kingdom
ATTACH;FMTTYPE=application/pdf:https://www.grassrootsworkspace.com/wp-content/uploads/2025/10/Guy-Fawkes-Night-Poster-1-1.pdf
ORGANIZER;CN="Grassroots":MAILTO:enquiries@grassrootsworkspace.com
END:VEVENT
END:VCALENDAR