BEGIN:VCALENDAR
VERSION:2.0
PRODID:-//Grassroots - ECPv6.15.20//NONSGML v1.0//EN
CALSCALE:GREGORIAN
METHOD:PUBLISH
X-WR-CALNAME:Grassroots
X-ORIGINAL-URL:https://www.grassrootsworkspace.com
X-WR-CALDESC:Events for Grassroots
REFRESH-INTERVAL;VALUE=DURATION:PT1H
X-Robots-Tag:noindex
X-PUBLISHED-TTL:PT1H
BEGIN:VTIMEZONE
TZID:UTC
BEGIN:STANDARD
TZOFFSETFROM:+0000
TZOFFSETTO:+0000
TZNAME:UTC
DTSTART:20240101T000000
END:STANDARD
END:VTIMEZONE
BEGIN:VEVENT
DTSTART;TZID=UTC:20251201T083000
DTEND;TZID=UTC:20251219T170000
DTSTAMP:20260421T015657
CREATED:20251201T162317Z
LAST-MODIFIED:20251201T162317Z
UID:8050-1764577800-1766163600@www.grassrootsworkspace.com
SUMMARY:Join Our Festive “Name the Reindeer” Competition!
DESCRIPTION:As the festive season approaches\, we’re delighted to kick things off with a fun Christmas competition to bring some holiday cheer to the building. You may have already seen the posters displayed downstairs\, but we wanted to provide you with the full details on how you can take part — and be in with a chance of winning our charming festive reindeer friend! 🎄\n\nWe are inviting you to help us choose a creative and original name for our reindeer. As hinted on the poster\, Rudolph is off the table\, so we encourage you to think outside the sleigh! 🛷\n\nTo enter\, simply visit Reception\, where you’ll find our sign-up sheet. Please write your name alongside your suggested reindeer name. You may see previous entries\, but we kindly ask that each name suggestion is unique. This competition is in support of The Gatehouse Oxford. They are a local charity that support the homeless and vulnerably housed community. To enter we are asking for a small donation via the QR code below.❄️\n\nOn 19th December\, all submitted names will be entered into a raffle\, and one lucky winner will be selected at random. The winner will then get to take home our newly-named festive companion! 🎁\n\nThe competition opens today\, and we can’t wait to see your imaginative ideas. 🔔\n\nWinter-Appeal-25-26-flyer-Final
URL:https://www.grassrootsworkspace.com/event/join-our-festive-name-the-reindeer-competition/
LOCATION:Grassroots Workspace\, 46 Woodstock Road\, Oxford\, OX2 6HT\, United Kingdom
ATTACH;FMTTYPE=image/png:https://www.grassrootsworkspace.com/wp-content/uploads/2025/12/Name-the-reindeer-comp-QR.png
ORGANIZER;CN="Grassroots":MAILTO:enquiries@grassrootsworkspace.com
END:VEVENT
BEGIN:VEVENT
DTSTART;TZID=UTC:20251201T083000
DTEND;TZID=UTC:20251219T170000
DTSTAMP:20260421T015657
CREATED:20251201T163532Z
LAST-MODIFIED:20251201T163532Z
UID:8054-1764577800-1766163600@www.grassrootsworkspace.com
SUMMARY:The Gatehouse Christmas Gift Appeal
DESCRIPTION:This year\, we are proud to support a remarkable local charity: The Gatehouse. Since 1988\, The Gatehouse has been a lifeline for Oxford’s homeless and vulnerably housed community. From their welcoming drop-in centre on Woodstock Road\, they offer warmth\, safety\, food\, clothing\, activities\, and—perhaps most importantly—a sense of belonging to adults who are struggling or simply seeking companionship. \nAs the holiday season approaches\, The Gatehouse is running a Christmas Gift Appeal to gather essential supplies for Christmas Day and to stock their clothing store for those in need throughout 2026. \nYour donation\, no matter the size\, can help make someone’s Christmas warmer\, brighter\, and filled with hope. It’s a chance to give comfort to someone who may be facing the holidays alone—and to help The Gatehouse continue their invaluable work well into the year ahead. \nPlease bring donations to reception by the 19th of December. \nThank you for considering a gift that truly makes a difference. ❤️
URL:https://www.grassrootsworkspace.com/event/the-gatehouse-christmas-gift-appeal/
LOCATION:Grassroots Workspace\, 46 Woodstock Road\, Oxford\, OX2 6HT\, United Kingdom
ATTACH;FMTTYPE=image/jpeg:https://www.grassrootsworkspace.com/wp-content/uploads/2025/12/Gatehouse-Christmas-Poster-2025-scaled.jpg
ORGANIZER;CN="Grassroots":MAILTO:enquiries@grassrootsworkspace.com
END:VEVENT
END:VCALENDAR