BEGIN:VCALENDAR
VERSION:2.0
PRODID:-//Grassroots - ECPv6.15.20//NONSGML v1.0//EN
CALSCALE:GREGORIAN
METHOD:PUBLISH
X-WR-CALNAME:Grassroots
X-ORIGINAL-URL:https://www.grassrootsworkspace.com
X-WR-CALDESC:Events for Grassroots
REFRESH-INTERVAL;VALUE=DURATION:PT1H
X-Robots-Tag:noindex
X-PUBLISHED-TTL:PT1H
BEGIN:VTIMEZONE
TZID:UTC
BEGIN:STANDARD
TZOFFSETFROM:+0000
TZOFFSETTO:+0000
TZNAME:UTC
DTSTART:20210101T000000
END:STANDARD
END:VTIMEZONE
BEGIN:VEVENT
DTSTART;TZID=UTC:20220526T173000
DTEND;TZID=UTC:20220526T183000
DTSTAMP:20260423T145648
CREATED:20220420T133051Z
LAST-MODIFIED:20220420T133051Z
UID:6425-1653586200-1653589800@www.grassrootsworkspace.com
SUMMARY:Exit Right – 26th May - New Business Development & Customer Acquisition
DESCRIPTION:New Business Development & Customer Acquisition \nAs you start to build your business\, business development and customer acquisition are key. Customers are the lifeblood of any business\, big or small. Serial entrepreneur and sales expert\, Paul Essery\, Innovation Director\, Wendy Tindsley\, and CEO of Innovation Gateway\, Matt Pumfrey will advise and discuss putting together a value proposition…. \nFind out more »
URL:https://www.grassrootsworkspace.com/event/exit-right-a-new-series-of-expert-led-events-for-entrepreneurs-3/
LOCATION:https://www.wcfi.co.uk/venue/wood-centre-for-innovation/\, https://www.wcfi.co.uk/venue/wood-centre-for-innovation/
ATTACH;FMTTYPE=image/jpeg:https://www.grassrootsworkspace.com/wp-content/uploads/2022/04/EXIT-RIGHT-NEWSLETTER-IMAGE-NO-LOGOS-copy.jpg
END:VEVENT
END:VCALENDAR