BEGIN:VCALENDAR
VERSION:2.0
PRODID:-//Grassroots - ECPv6.15.20//NONSGML v1.0//EN
CALSCALE:GREGORIAN
METHOD:PUBLISH
X-ORIGINAL-URL:https://www.grassrootsworkspace.com
X-WR-CALDESC:Events for Grassroots
REFRESH-INTERVAL;VALUE=DURATION:PT1H
X-Robots-Tag:noindex
X-PUBLISHED-TTL:PT1H
BEGIN:VTIMEZONE
TZID:UTC
BEGIN:STANDARD
TZOFFSETFROM:+0000
TZOFFSETTO:+0000
TZNAME:UTC
DTSTART:20220101T000000
END:STANDARD
END:VTIMEZONE
BEGIN:VEVENT
DTSTART;TZID=UTC:20230825T160000
DTEND;TZID=UTC:20230825T170000
DTSTAMP:20260423T215005
CREATED:20230818T120544Z
LAST-MODIFIED:20230818T120544Z
UID:7378-1692979200-1692982800@www.grassrootsworkspace.com
SUMMARY:Beer & a Bite
DESCRIPTION:Beer & a Bite at Grassroots! \nWe cordially invite you to join us for the members-only ‘Wine-Down Friday’ event hosted at Grassroots. As part of our monthly tradition\, we gather on the final Friday of each month to provide an opportunity for relaxation and networking among our esteemed members. \nImagine a tranquil evening as the workweek comes to a close\, where you can connect with fellow members in an informal setting. ‘Wine-Down Friday’ offers an understated yet pleasant ambiance\, allowing you to unwind and engage in casual conversations. \nAlongside a selection of Beers\, we offer a range of nibbles\, ensuring there’s something for everyone’s palate. \nYour attendance on August 25th would be highly appreciated. It’s an opportunity to be part of a low-key gathering\, connecting with others in a laid-back environment. We hope you’ll consider joining us for this unassuming yet meaningful ‘Wine-Down Friday’ event.
URL:https://www.grassrootsworkspace.com/event/beer-a-bite/
LOCATION:Grassroots Workspace\, 46 Woodstock Road\, Oxford\, OX2 6HT\, United Kingdom
CATEGORIES:Members Only
ATTACH;FMTTYPE=image/png:https://www.grassrootsworkspace.com/wp-content/uploads/2023/08/Beer-Friday.png
ORGANIZER;CN="Grassroots":MAILTO:enquiries@grassrootsworkspace.com
END:VEVENT
END:VCALENDAR