BEGIN:VCALENDAR
VERSION:2.0
PRODID:-//Grassroots - ECPv6.15.20//NONSGML v1.0//EN
CALSCALE:GREGORIAN
METHOD:PUBLISH
X-ORIGINAL-URL:https://www.grassrootsworkspace.com
X-WR-CALDESC:Events for Grassroots
REFRESH-INTERVAL;VALUE=DURATION:PT1H
X-Robots-Tag:noindex
X-PUBLISHED-TTL:PT1H
BEGIN:VTIMEZONE
TZID:UTC
BEGIN:STANDARD
TZOFFSETFROM:+0000
TZOFFSETTO:+0000
TZNAME:UTC
DTSTART:20240101T000000
END:STANDARD
END:VTIMEZONE
BEGIN:VEVENT
DTSTART;TZID=UTC:20251001T150000
DTEND;TZID=UTC:20251001T170000
DTSTAMP:20260425T000830
CREATED:20250919T103450Z
LAST-MODIFIED:20250919T103450Z
UID:7985-1759330800-1759338000@www.grassrootsworkspace.com
SUMMARY:White Chocolate Day @ G_R! 🤍🍫
DESCRIPTION:🍫🎉 Sweet news! We’re celebrating National White Chocolate Day at Grassroots! Join us for a delicious day of treats\, community\, and good vibes. Don’t miss the chance to indulge — you white chocolate lovers won’t want to miss this! 💛 \n \n  \n📅 Date: Wednesday 1st October 2025 \n🕒 Time: 3:00pm \n📍 Location: Grassroots Kitchen \nSee you there!
URL:https://www.grassrootsworkspace.com/event/white-chocolate-day-g_r-%f0%9f%a4%8d%f0%9f%8d%ab/
LOCATION:Grassroots Workspace\, 46 Woodstock Road\, Oxford\, OX2 6HT\, United Kingdom
ATTACH;FMTTYPE=application/pdf:https://www.grassrootsworkspace.com/wp-content/uploads/2025/09/National-white-chocolate-day.pdf
END:VEVENT
BEGIN:VEVENT
DTSTART;TZID=UTC:20251007T123000
DTEND;TZID=UTC:20251007T140000
DTSTAMP:20260425T000830
CREATED:20250929T110723Z
LAST-MODIFIED:20250929T110833Z
UID:7995-1759840200-1759845600@www.grassrootsworkspace.com
SUMMARY:Growth Hacking Powered by AI – Join the conversation
DESCRIPTION:Growth Hacking Powered by AI \n \n  \nA peer-to-peer sales workshop with free lunch included! \nThis workshop brings sales professionals together to share experiences\, uncover new ideas\, and explore practical ways AI can power growth hacking. You’ll leave with insights you can apply straight away\, new connections\, and a refreshed approach to sales. \n  \nWhy attend? \n\nLearn from peers: what’s working (and what’s not) in today’s sales landscape\nExplore how AI can streamline and enhance your sales process\nNetwork and collaborate in a supportive environment\nEnjoy a free lunch on us – pizza and drinks\n\n  \n  \n  \n  \nEvent details \nPlace: Sherrington Room\, Grassroots Workspace\, Woodstock Road\, Oxford \nDate: 7th October \nTime: 12:30 PM – 2 PM \nSeats are limited. To reserve your spot\, email aiya@superbenji.ai
URL:https://www.grassrootsworkspace.com/event/growth-hacking-powered-by-ai-join-the-conversation/
LOCATION:Grassroots Workspace\, 46 Woodstock Road\, Oxford\, OX2 6HT\, United Kingdom
ATTACH;FMTTYPE=image/jpeg:https://www.grassrootsworkspace.com/wp-content/uploads/2025/09/Growth-hacking-workahop.jpg
END:VEVENT
BEGIN:VEVENT
DTSTART;TZID=UTC:20251023T173000
DTEND;TZID=UTC:20251127T193000
DTSTAMP:20260425T000830
CREATED:20251002T165027Z
LAST-MODIFIED:20251002T165027Z
UID:8001-1761240600-1764271800@www.grassrootsworkspace.com
SUMMARY:Exit Right
DESCRIPTION:Exit Right is practical\, expert-led event programme for founders and senior leadership teams of start-ups and SMEs aiming so scale and achieve a successful exit. See links to videos of previous events here. \n\nDeveloped by The Oxford Trust\, Barclays Eagle Labs and Oxford Innovation Space\, the series brings together experienced senior leaders and industry experts to share essential knowledge and insights. \n\nThis autumn\, we are running three focused masterclasses: \n\nDeveloping a winning share capital strategy (Thursday 23rd October);\nNavigating a successful property move (13th November); and\nStepping up from founder to strategic leader (27th November).\n\n\n👉 See more information and register here \n  \nFor any further questions or info\, reach out to Wendy Tindsley at wtindsley@oxin.co.uk
URL:https://www.grassrootsworkspace.com/event/exit-right/
LOCATION:Oxford Centre for Innovation\, 9 Alfred St\, Oxford OX1 4EH\, 9 Alfred Street\, Oxford\, OX1 4EH\, United Kingdom
ATTACH;FMTTYPE=image/jpeg:https://www.grassrootsworkspace.com/wp-content/uploads/2025/10/ER-2025.jpg
END:VEVENT
BEGIN:VEVENT
DTSTART;VALUE=DATE:20251027
DTEND;VALUE=DATE:20251101
DTSTAMP:20260425T000830
CREATED:20251027T130220Z
LAST-MODIFIED:20251027T130220Z
UID:8016-1761523200-1761955199@www.grassrootsworkspace.com
SUMMARY:👻 Join Our Ghost Hunting Competition – Can You Find Them All? 👻
DESCRIPTION:Do you have what it takes to be our ultimate ghost hunter? 👀✨\nWe’re hosting a Ghost Hunting Competition\, and your mission is to find the five different families of ghosts lurking around!\nHere’s how to take part:\n\n\nHunt for the 5 ghost families – keep your eyes peeled!\n\n\nFill in your Ghost Finder Sheet with the location of the ghosts.\n\n\nHand your completed sheet in to Reception before the deadline.\n\n\nThe winner will be announced on Friday\, and they’ll receive an excellent prize for their supernatural skills! 🏆👻\nGood luck\, brave hunters – may the best ghost tracker win!
URL:https://www.grassrootsworkspace.com/event/%f0%9f%91%bb-join-our-ghost-hunting-competition-can-you-find-them-all-%f0%9f%91%bb/
LOCATION:Grassroots Workspace\, 46 Woodstock Road\, Oxford\, OX2 6HT\, United Kingdom
ATTACH;FMTTYPE=application/pdf:https://www.grassrootsworkspace.com/wp-content/uploads/2025/10/Ghost-Hunting-Comp.pdf
ORGANIZER;CN="Grassroots":MAILTO:enquiries@grassrootsworkspace.com
END:VEVENT
BEGIN:VEVENT
DTSTART;TZID=UTC:20251031T120000
DTEND;TZID=UTC:20251031T140000
DTSTAMP:20260425T000830
CREATED:20251022T111456Z
LAST-MODIFIED:20251022T111456Z
UID:8012-1761912000-1761919200@www.grassrootsworkspace.com
SUMMARY:Happy Halloween!
DESCRIPTION:Join us for some spooky snacks and frightful fun on Friday\, 31 October at 12:00 PM in the Grassroots Kitchen. \nCome  and enjoy some ghoulish goodies with your fellow ghosts and goblins! \nLet’s take a midday break to celebrate the spooky season together! 🕸️🦇🍬
URL:https://www.grassrootsworkspace.com/event/happy-halloween/
LOCATION:Grassroots Workspace\, 46 Woodstock Road\, Oxford\, OX2 6HT\, United Kingdom
ATTACH;FMTTYPE=application/pdf:https://www.grassrootsworkspace.com/wp-content/uploads/2025/10/Halloween-2025-Poster-.pdf
ORGANIZER;CN="Grassroots":MAILTO:enquiries@grassrootsworkspace.com
END:VEVENT
END:VCALENDAR