BEGIN:VCALENDAR
VERSION:2.0
PRODID:-//Grassroots - ECPv6.15.20//NONSGML v1.0//EN
CALSCALE:GREGORIAN
METHOD:PUBLISH
X-WR-CALNAME:Grassroots
X-ORIGINAL-URL:https://www.grassrootsworkspace.com
X-WR-CALDESC:Events for Grassroots
REFRESH-INTERVAL;VALUE=DURATION:PT1H
X-Robots-Tag:noindex
X-PUBLISHED-TTL:PT1H
BEGIN:VTIMEZONE
TZID:UTC
BEGIN:STANDARD
TZOFFSETFROM:+0000
TZOFFSETTO:+0000
TZNAME:UTC
DTSTART:20240101T000000
END:STANDARD
END:VTIMEZONE
BEGIN:VEVENT
DTSTART;VALUE=DATE:20250113
DTEND;VALUE=DATE:20250114
DTSTAMP:20260425T125113
CREATED:20250102T130301Z
LAST-MODIFIED:20250102T131251Z
UID:7869-1736726400-1736812799@www.grassrootsworkspace.com
SUMMARY:NATIONAL CLEAN OFF YOUR DESK DAY
DESCRIPTION:NATIONAL CLEAN OFF YOUR DESK DAY\n  \nThe second Monday of January each year recognizes National Clean Off Your Desk Day. \n#CleanOffYourDeskDay\nThis day is an opportunity to begin your new year with a clean and organized workspace. Whether your desk is in a private or shared office\, cubicle\, home or a make-shift desk on the counter\, having your workspace uncluttered and organized will help you work more efficiently. A clean workspace improves productivity and inspires us\, too. It often gives us a sense of serenity. \nHappy #CleanOffYourDeskDay to all our members! 🙂 \nAll the best\, \nGR Team
URL:https://www.grassrootsworkspace.com/event/national-clean-off-your-desk-day/
ATTACH;FMTTYPE=image/jpeg:https://www.grassrootsworkspace.com/wp-content/uploads/2025/01/National-Clean-Off-Your-Desk-sDay.jpg
END:VEVENT
BEGIN:VEVENT
DTSTART;TZID=UTC:20250122T110000
DTEND;TZID=UTC:20250122T130000
DTSTAMP:20260425T125113
CREATED:20250102T125332Z
LAST-MODIFIED:20250102T125332Z
UID:7867-1737543600-1737550800@www.grassrootsworkspace.com
SUMMARY:"Unlock Funding Opportunities with Barclays Demo Directory" with Mark Walker and Alistair Drew-yeates from Barclays Eagle Labs.
DESCRIPTION:Hello\, \nWe are pleased to invite you to the next Oxford Innovation Space Sessions event. \n“Unlock Funding Opportunities with Barclays Demo Directory” with Mark Walker and Alistair Drew-yeates from Barclays Eagle Labs. \nThis exclusive session will teach you how to showcase your business to attractive investors and introduce you to Demo Directly. You will get to hear success stories from founders who have used the platform\, and discover key insights about investor engagement and funding trends. \nDate: 22nd Jan\nTime: 11:00am – 1:00pm\nLocation: Live stream via LinkedIn & YouTube \nPlease register your place using the button below\, and we look forward to seeing you there. \n\n\n\n  \nUnlock Funding Opportunities with Barclays Demo Directory Tickets\, Wed\, Jan 22\, 2025 at 11:00 AM | Eventbrite\n\n\n\nAll the best\, \nGR team
URL:https://www.grassrootsworkspace.com/event/unlock-funding-opportunities-with-barclays-demo-directory-with-mark-walker-and-alistair-drew-yeates-from-barclays-eagle-labs/
ATTACH;FMTTYPE=image/png:https://www.grassrootsworkspace.com/wp-content/uploads/2025/01/Eventbrite-22nd-Jan-e1735822325936.png
END:VEVENT
BEGIN:VEVENT
DTSTART;TZID=UTC:20250127T130000
DTEND;TZID=UTC:20250127T153000
DTSTAMP:20260425T125113
CREATED:20250102T131000Z
LAST-MODIFIED:20250102T131150Z
UID:7871-1737982800-1737991800@www.grassrootsworkspace.com
SUMMARY:NATIONAL CHOCOLATE CAKE DAY in Grassroots
DESCRIPTION:NATIONAL CHOCOLATE CAKE DAY\nCelebrating the cake more people favor. And more often than not\, we celebrate our special occasions like anniversaries\, birthdays and weddings with cake. Why not enjoy chocolate cake on January 27th every year? \n#ChocolateCakeDay\nAll over the world\, chocolate was consumed primarily as a beverage until the 1830s or 40s. Chocolate cakes\, as we think of them today\, mostly did not exist then.  According to the Dover Post\, the chocolate cake was born in 1765 when a doctor and a chocolate maker teamed up in an old mill.  They ground up cocoa beans between huge millstones to make a thick syrup. The liquid was poured into molds shaped like cakes\, which were meant to be transformed into a beverage.  A popular Philadelphia cookbook author\, Eliza Leslie\, published the earliest chocolate cake recipe in 1847 in The Lady’s Receipt Book.  Unlike chocolate cakes we know today\, this recipe used chopped chocolate.  Other cooks of the time such as Sarah Tyson Rorer and Maria Parloa all made contributions to the development of the chocolate cake and were prolific authors of cookbooks. \nAll members are free to join us in the kitchen area at lunchtime\, where we will be sharing different sorts of chocolate cakes! \n#ChocolateCakeDay  \nAll the best\, \nGR team
URL:https://www.grassrootsworkspace.com/event/national-chocolate-cake-day/
ATTACH;FMTTYPE=image/jpeg:https://www.grassrootsworkspace.com/wp-content/uploads/2025/01/National-Chocolate-Cake-Day.jpg
END:VEVENT
BEGIN:VEVENT
DTSTART;TZID=UTC:20250129T180000
DTEND;TZID=UTC:20250129T203000
DTSTAMP:20260425T125113
CREATED:20250103T120453Z
LAST-MODIFIED:20250103T120915Z
UID:7873-1738173600-1738182600@www.grassrootsworkspace.com
SUMMARY:The Leadership Legacy: Passing the Torch - Conexen
DESCRIPTION:Welcome to CONEXEN Oxford – a warm and welcoming hub for professionals in pharma\, biotech\, life sciences\, and health tech in Oxford! Here\, we invite you to join us for an informal and friendly gathering where connections are made\, knowledge is shared\, and friendships are formed. Come with an open heart and a willingness to “listen” rather than “sell.” \n  \nWe will be hosting our next Oxford event at Grassroots Workspace. Our events are run in a casual setting where we can come together\, exchange greetings\, engage in conversation and simply enjoy a pleasant time. \nPicture this as more than just an event—it’s a community gathering. Our focus is on providing you with an opportunity to meet fellow professionals in a relaxed and amiable environment. We’ll share conversations over delicious food and drinks\, and leave with a sense of excitement and a pocketful of new contacts and ideas. \nJoin us for an evening surrounded by incredible people\, and let’s make it a night to remember. Looking forward to sharing good company and creating memorable connections! \nPanel: The Leadership Legacy: Passing the Torch Moderated by Helen Bligh (Helen Bligh Consulting & Coaching) – Panellists: To be announced \n \nThe format of the night: \nWednesday 29th January 2025 \n18.00 – doors open –  drinks\, networking\, and meeting great people \n18.30  Panel and talks start \n19.15 – Drinks\, food and networking \n20.30 – end of the night – you leave with new contacts and fresh ideas \nVenue: Grassroots Workspace – 46 Woodstock Rd\, Oxford OX2 6HT \nThis event is proudly supported by FINN Partners\, Johnsons Laboratory Logistics\, Oxford Technology Park (Life Science REIT)\, Source Bioscience and Weatherden. \nAnd finally… \nThis is a ticketed event (£15). Food and drinks included. \n  \nPlease register here for the event: CONEXEN Oxford January – Conexen \nPlease let your colleagues and industry friends know about us\, we hope to build it into a great resource for the Oxford community over the coming months and years. Attendance will be taken at this event. If you register but don’t show up\, this has a knock on effect on event arrangements. If it happens 3 times\, we may need to reconsider your participation. This is simply a measure to allow appropriate respect to the organisers\, speakers\, sponsors\, and your fellow Conexers. \nSee you there! \n  \n\nOxford Organisers
URL:https://www.grassrootsworkspace.com/event/the-leadership-legacy-passing-the-torch/
ATTACH;FMTTYPE=application/pdf:https://www.grassrootsworkspace.com/wp-content/uploads/2025/01/Conexen-A4-September-2024-1.pdf
END:VEVENT
END:VCALENDAR