BEGIN:VCALENDAR
VERSION:2.0
PRODID:-//Grassroots - ECPv6.15.20//NONSGML v1.0//EN
CALSCALE:GREGORIAN
METHOD:PUBLISH
X-ORIGINAL-URL:https://www.grassrootsworkspace.com
X-WR-CALDESC:Events for Grassroots
REFRESH-INTERVAL;VALUE=DURATION:PT1H
X-Robots-Tag:noindex
X-PUBLISHED-TTL:PT1H
BEGIN:VTIMEZONE
TZID:UTC
BEGIN:STANDARD
TZOFFSETFROM:+0000
TZOFFSETTO:+0000
TZNAME:UTC
DTSTART:20230101T000000
END:STANDARD
END:VTIMEZONE
BEGIN:VEVENT
DTSTART;VALUE=DATE:20241203
DTEND;VALUE=DATE:20241204
DTSTAMP:20260425T142551
CREATED:20241024T140736Z
LAST-MODIFIED:20241024T140736Z
UID:7827-1733184000-1733270399@www.grassrootsworkspace.com
SUMMARY:Knights - Professionals On Hand (Regulatory Law)
DESCRIPTION:Knights is a recent joiner to Grassroots and will be supporting the entrepreneurial community with professionals on hand to address any of your legal challenges. \nKnights is a legal and professional services business with 1\,000+ professionals delivering high-quality services to over 10\,000 business clients from 23 office locations across the UK. \nKnights will have members of the team here in Grassroots throughout November and December who specialize in: \n\nAsset Management\nProperty Litigation\nDispute Resolution\nProperty Management\nDevelopment & Consumer Law\nRegulatory Law\nCommercial Law\nEmployment Law\nDispute Resolution\nImmigration Law
URL:https://www.grassrootsworkspace.com/event/knights-professionals-on-hand-regulatory-law-7/
LOCATION:Grassroots Workspace\, 46 Woodstock Road\, Oxford\, OX2 6HT\, United Kingdom
ATTACH;FMTTYPE=image/png:https://www.grassrootsworkspace.com/wp-content/uploads/2024/07/Untitled-design-1.png
END:VEVENT
BEGIN:VEVENT
DTSTART;VALUE=DATE:20241205
DTEND;VALUE=DATE:20241206
DTSTAMP:20260425T142551
CREATED:20241024T142058Z
LAST-MODIFIED:20241024T142058Z
UID:7832-1733356800-1733443199@www.grassrootsworkspace.com
SUMMARY:Knights - Professionals On Hand (Real Estate)
DESCRIPTION:Knights is a recent joiner to Grassroots and will be supporting the entrepreneurial community with professionals on hand to address any of your legal challenges. \nKnights is a legal and professional services business with 1\,000+ professionals delivering high-quality services to over 10\,000 business clients from 23 office locations across the UK. \nKnights will have members of the team here in Grassroots throughout November and December who specialize in: \n\nAsset Management\nProperty Litigation\nDispute Resolution\nProperty Management\nDevelopment & Consumer Law\nRegulatory Law\nCommercial Law\nEmployment Law\nDispute Resolution\nImmigration Law
URL:https://www.grassrootsworkspace.com/event/knights-professionals-on-hand-real-estate/
LOCATION:Grassroots Workspace\, 46 Woodstock Road\, Oxford\, OX2 6HT\, United Kingdom
ATTACH;FMTTYPE=image/png:https://www.grassrootsworkspace.com/wp-content/uploads/2024/07/Untitled-design-1.png
END:VEVENT
BEGIN:VEVENT
DTSTART;TZID=UTC:20241205T170000
DTEND;TZID=UTC:20241205T180000
DTSTAMP:20260425T142551
CREATED:20241203T120326Z
LAST-MODIFIED:20241203T131756Z
UID:7857-1733418000-1733421600@www.grassrootsworkspace.com
SUMMARY:Adapt. Improvise. Grow. Your Powerful Playbook for Workplace Excellence.
DESCRIPTION:Adapt. Improvise. Grow. \nYour Powerful Playbook for Workplace Excellence. \nThurs 5th Dec | 5-6pm | Grassroots Workspace\, 46 Woodstock Road | FREE \n  \nA one-hour demo & networking event where you’ll have the opportunity to join in our engaging skill-building activities that will help grow your business. \n  \nFor leaders and teams\, here’s something game-changing: learn transformational improv techniques. It’s a secret weapon for building a more adaptable\, creative and connected workplace that you can apply in work immediately. \n  \nWhen Google & Disney wanted innovation & storytelling workshops\, they came to us. \n  \nNow you too can learn the skills needed to navigate uncertainty + co-create with ease. Crack how to make meetings matter + re-energise your time together. \n  \nWe love that moment when the penny drops and our clients see the value of the LIFEPASS improvisation principles. \n  \nWe start with refreshments at 5pm in the Grassroots Workspace at 46 Woodstock Road. Free pizza included. Places are limited to only 20 spots\, so sign up now to secure yours and see for yourself. \n https://impro.org.uk/services-products/training/oxford-demo/ \n\n\nDetails \nDate: \nThursday 5th December \nTime: \n5pm-6pm \nCost: \nFree \nEvent Category: \nMembers Only \nEvent Tags: \nGrassroots \nOrganiser \nPaul Jackson Associates \nPhone \n+44 (0) 7973 953 586 \nEmail \ned@impro.org.uk \nView Organiser Website \nVenue \nGrassroots Workspace
URL:https://www.grassrootsworkspace.com/event/adapt-improvise-grow-your-powerful-playbook-for-workplace-excellence/
ATTACH;FMTTYPE=image/jpeg:https://www.grassrootsworkspace.com/wp-content/uploads/2024/12/Improv-Demo-image-for-Social-Media.jpg
END:VEVENT
BEGIN:VEVENT
DTSTART;TZID=UTC:20241210T090000
DTEND;TZID=UTC:20241210T170000
DTSTAMP:20260425T142551
CREATED:20240719T150906Z
LAST-MODIFIED:20240719T150906Z
UID:7760-1733821200-1733850000@www.grassrootsworkspace.com
SUMMARY:Free Coaching Drop-in with Claudia Filsinger\, Moving Maps Ltd.
DESCRIPTION:Claudia Filsinger\, executive coach and founder of Moving Maps Ltd. will support the Grassroots and Oxford Trust communities by providing a thinking space and being a sounding board with no agenda for any of your work challenges or growth opportunities. \nCoaching supports you in expanding your thinking through deep listening\, questions\, mirroring back\, exploring and challenging limiting beliefs\, assumptions and potential blind spots. Coaches don’t give advice but help you to uncover the solutions you might not know yet that you know already! \nYou can use the coaching to reflect on current or future challenges\, but also to learn from past events. Common coaching topics you could bring: \n\nGenerating and evaluating options for problem-solving or decision making\n\n\nTransitioning into new roles\n\n\nIncreasing personal effectiveness and communication\n\n\nPeople management & leadership\n\n\nManaging the “inner critical voice” and imposter syndrome\n\n\nPreparing for challenging or high-stakes conversations or meetings\n\n\nManaging conflict\n\n\nSupporting the people-side of change before or after restructuring or M&A\n\n\nStakeholder management\n\nThis free “Coaching drop-in” is open to all companies within the Grassroots and Oxford Trust Community. No booking is required and it will be held in Grassroots. Drop-in on the day in person or email claudia.filsinger@moving-maps.com to receive a Zoom link for an online meeting. Coaching drop-ins are usually 30-45mins long and coachees are often surprised how much can be achieved within a short\, one-off coaching conversation! \nAbout Claudia Filsinger\, Executive Coach and Founder of Moving Maps Ltd. \nClaudia is a highly versatile and experienced coach and facilitator\, having worked with clients in a wide range of companies\, industries\, geographies\, functions and seniority for 15 years. She founded Moving Maps LTD. to make systemic and visual self-coaching tools accessible to her clients. Her corporate background is in international sales and learning & development roles in the IT/tech and media industries. She has also lectured in business\, management and coaching at Oxford Brookes Business School. \n  \n  \n 
URL:https://www.grassrootsworkspace.com/event/free-coaching-drop-in-with-claudia-filsinger-moving-maps-ltd-5/
LOCATION:Grassroots Workspace\, 46 Woodstock Road\, Oxford\, OX2 6HT\, United Kingdom
ATTACH;FMTTYPE=image/png:https://www.grassrootsworkspace.com/wp-content/uploads/2024/07/Untitled-design-e1741960032385.png
ORGANIZER;CN="Grassroots":MAILTO:enquiries@grassrootsworkspace.com
END:VEVENT
BEGIN:VEVENT
DTSTART;VALUE=DATE:20241212
DTEND;VALUE=DATE:20241213
DTSTAMP:20260425T142551
CREATED:20241024T141028Z
LAST-MODIFIED:20241107T144408Z
UID:7829-1733961600-1734047999@www.grassrootsworkspace.com
SUMMARY:Knights - Professionals On Hand (Employment Law)
DESCRIPTION:Knights is a recent joiner to Grassroots and will be supporting the entrepreneurial community with professionals on hand to address any of your legal challenges. \nKnights is a legal and professional services business with 1\,000+ professionals delivering high-quality services to over 10\,000 business clients from 23 office locations across the UK. \nKnights will have members of the team here in Grassroots throughout November and December who specialize in: \n\nAsset Management\nProperty Litigation\nDispute Resolution\nProperty Management\nDevelopment & Consumer Law\nRegulatory Law\nCommercial Law\nEmployment Law\nDispute Resolution\nImmigration Law
URL:https://www.grassrootsworkspace.com/event/knights-professionals-on-hand-immigration-law-2/
LOCATION:Grassroots Workspace\, 46 Woodstock Road\, Oxford\, OX2 6HT\, United Kingdom
ATTACH;FMTTYPE=image/png:https://www.grassrootsworkspace.com/wp-content/uploads/2024/07/Untitled-design-1.png
END:VEVENT
BEGIN:VEVENT
DTSTART;VALUE=DATE:20241217
DTEND;VALUE=DATE:20241218
DTSTAMP:20260425T142551
CREATED:20241024T141108Z
LAST-MODIFIED:20241024T141108Z
UID:7830-1734393600-1734479999@www.grassrootsworkspace.com
SUMMARY:Knights - Professionals On Hand (Regulatory Law)
DESCRIPTION:Knights is a recent joiner to Grassroots and will be supporting the entrepreneurial community with professionals on hand to address any of your legal challenges. \nKnights is a legal and professional services business with 1\,000+ professionals delivering high-quality services to over 10\,000 business clients from 23 office locations across the UK. \nKnights will have members of the team here in Grassroots throughout November and December who specialize in: \n\nAsset Management\nProperty Litigation\nDispute Resolution\nProperty Management\nDevelopment & Consumer Law\nRegulatory Law\nCommercial Law\nEmployment Law\nDispute Resolution\nImmigration Law
URL:https://www.grassrootsworkspace.com/event/knights-professionals-on-hand-regulatory-law-8/
LOCATION:Grassroots Workspace\, 46 Woodstock Road\, Oxford\, OX2 6HT\, United Kingdom
ATTACH;FMTTYPE=image/png:https://www.grassrootsworkspace.com/wp-content/uploads/2024/07/Untitled-design-1.png
END:VEVENT
BEGIN:VEVENT
DTSTART;VALUE=DATE:20241219
DTEND;VALUE=DATE:20241220
DTSTAMP:20260425T142551
CREATED:20241024T141825Z
LAST-MODIFIED:20241024T141825Z
UID:7831-1734566400-1734652799@www.grassrootsworkspace.com
SUMMARY:Knights - Professionals On Hand (Immigration Law)
DESCRIPTION:Knights is a recent joiner to Grassroots and will be supporting the entrepreneurial community with professionals on hand to address any of your legal challenges. \nKnights is a legal and professional services business with 1\,000+ professionals delivering high-quality services to over 10\,000 business clients from 23 office locations across the UK. \nKnights will have members of the team here in Grassroots throughout November and December who specialize in: \n\nAsset Management\nProperty Litigation\nDispute Resolution\nProperty Management\nDevelopment & Consumer Law\nRegulatory Law\nCommercial Law\nEmployment Law\nDispute Resolution\nImmigration Law
URL:https://www.grassrootsworkspace.com/event/knights-professionals-on-hand-immigration-law-3/
LOCATION:Grassroots Workspace\, 46 Woodstock Road\, Oxford\, OX2 6HT\, United Kingdom
ATTACH;FMTTYPE=image/png:https://www.grassrootsworkspace.com/wp-content/uploads/2024/07/Untitled-design-1.png
END:VEVENT
BEGIN:VEVENT
DTSTART;TZID=UTC:20241220T150000
DTEND;TZID=UTC:20241220T170000
DTSTAMP:20260425T142551
CREATED:20241217T132055Z
LAST-MODIFIED:20241217T132542Z
UID:7863-1734706800-1734714000@www.grassrootsworkspace.com
SUMMARY:It’s time to celebrate! Join us at our Jingle & Mingle Party!!!
DESCRIPTION:It’s time to celebrate! Join us at our Jingle & Mingle Party!!! \nJoin us for a festive Christmas Party with all the Grassroots members alongside some snacks\, drinks\, and holiday fun! 😊 \nWe will meet around 3pm in the kitchen area where we can all share our highlights of 2024 and what the future will bring in 2025. \nAll members are welcome\, and please\, do wear your favourite Christmas jumper! 😊 \nOn this occasion we want to thank you for all the support throughout the year and we are looking forward to another year\, with each and all of you\, here at Grassroots! \n  \nMERRY CHRISTAMS AND A HAPPY NEW YEAR – from all the Grassroots team! \n  \nNorbert\, LLiwen & Giulia ❤
URL:https://www.grassrootsworkspace.com/event/its-time-to-celebrate-join-us-at-our-jingle-mingle-party/
CATEGORIES:Members Only
END:VEVENT
END:VCALENDAR