BEGIN:VCALENDAR
VERSION:2.0
PRODID:-//Grassroots - ECPv6.15.20//NONSGML v1.0//EN
CALSCALE:GREGORIAN
METHOD:PUBLISH
X-ORIGINAL-URL:https://www.grassrootsworkspace.com
X-WR-CALDESC:Events for Grassroots
REFRESH-INTERVAL;VALUE=DURATION:PT1H
X-Robots-Tag:noindex
X-PUBLISHED-TTL:PT1H
BEGIN:VTIMEZONE
TZID:UTC
BEGIN:STANDARD
TZOFFSETFROM:+0000
TZOFFSETTO:+0000
TZNAME:UTC
DTSTART:20230101T000000
END:STANDARD
END:VTIMEZONE
BEGIN:VEVENT
DTSTART;VALUE=DATE:20241105
DTEND;VALUE=DATE:20241106
DTSTAMP:20260425T154528
CREATED:20241024T134939Z
LAST-MODIFIED:20241024T135326Z
UID:7822-1730764800-1730851199@www.grassrootsworkspace.com
SUMMARY:Knights - Professionals On Hand (Regulatory)
DESCRIPTION:Knights is a recent joiner to Grassroots and will be supporting the entrepreneurial community with professionals on hand to address any of your legal challenges. \nKnights is a legal and professional services business with 1\,000+ professionals delivering high-quality services to over 10\,000 business clients from 23 office locations across the UK. \nKnights will have members of the team here in Grassroots throughout November and December who specialize in: \n\nAsset Management\nProperty Litigation\nDispute Resolution\nProperty Management\nDevelopment & Consumer Law\nRegulatory Law\nCommercial Law\nEmployment Law\nDispute Resolution\nImmigration Law
URL:https://www.grassrootsworkspace.com/event/knights-professionals-on-hand-regulatory-2/
LOCATION:Grassroots Workspace\, 46 Woodstock Road\, Oxford\, OX2 6HT\, United Kingdom
ATTACH;FMTTYPE=image/png:https://www.grassrootsworkspace.com/wp-content/uploads/2024/07/Untitled-design-1.png
END:VEVENT
BEGIN:VEVENT
DTSTART;VALUE=DATE:20241107
DTEND;VALUE=DATE:20241108
DTSTAMP:20260425T154528
CREATED:20241024T133716Z
LAST-MODIFIED:20241024T135503Z
UID:7821-1730937600-1731023999@www.grassrootsworkspace.com
SUMMARY:Knights - Professionals On Hand (Real Estate & Regulatory Law)
DESCRIPTION:Knights is a recent joiner to Grassroots and will be supporting the entrepreneurial community with professionals on hand to address any of your legal challenges. \nKnights is a legal and professional services business with 1\,000+ professionals delivering high-quality services to over 10\,000 business clients from 23 office locations across the UK. \nKnights will have members of the team here in Grassroots throughout November and December who specialize in: \n\nAsset Management\nProperty Litigation\nDispute Resolution\nProperty Management\nDevelopment & Consumer Law\nRegulatory Law\nCommercial Law\nEmployment Law\nDispute Resolution\nImmigration Law
URL:https://www.grassrootsworkspace.com/event/knights-professionals-on-hand-regulatory/
LOCATION:Grassroots Workspace\, 46 Woodstock Road\, Oxford\, OX2 6HT\, United Kingdom
ATTACH;FMTTYPE=image/png:https://www.grassrootsworkspace.com/wp-content/uploads/2024/07/Untitled-design-1.png
END:VEVENT
BEGIN:VEVENT
DTSTART;VALUE=DATE:20241112
DTEND;VALUE=DATE:20241113
DTSTAMP:20260425T154528
CREATED:20241024T140108Z
LAST-MODIFIED:20241024T140108Z
UID:7823-1731369600-1731455999@www.grassrootsworkspace.com
SUMMARY:Knights - Professionals On Hand (Commercial & Corporate Law)
DESCRIPTION:Knights is a recent joiner to Grassroots and will be supporting the entrepreneurial community with professionals on hand to address any of your legal challenges. \nKnights is a legal and professional services business with 1\,000+ professionals delivering high-quality services to over 10\,000 business clients from 23 office locations across the UK. \nKnights will have members of the team here in Grassroots throughout November and December who specialize in: \n\nAsset Management\nProperty Litigation\nDispute Resolution\nProperty Management\nDevelopment & Consumer Law\nRegulatory Law\nCommercial Law\nEmployment Law\nDispute Resolution\nImmigration Law
URL:https://www.grassrootsworkspace.com/event/knights-professionals-on-hand-commercial-corporate-law/
LOCATION:Grassroots Workspace\, 46 Woodstock Road\, Oxford\, OX2 6HT\, United Kingdom
ATTACH;FMTTYPE=image/png:https://www.grassrootsworkspace.com/wp-content/uploads/2024/07/Untitled-design-1.png
END:VEVENT
BEGIN:VEVENT
DTSTART;VALUE=DATE:20241112
DTEND;VALUE=DATE:20241113
DTSTAMP:20260425T154528
CREATED:20241029T144000Z
LAST-MODIFIED:20241029T144141Z
UID:7835-1731369600-1731455999@www.grassrootsworkspace.com
SUMMARY:Get Support - Cyber Security Essentials: Protect Your Business
DESCRIPTION:Get Support are hosting a seminar on the 12th of November; Cyber Security Essentials: Protect Your Business. This will be an engaging event that will cover the critical need for a robust cyber security strategy\, delve into the Identify\, Protect\, Detect\, Respond and Recover framework\, and provide practical advice on further protection measures including Phishing MFA. We’ll also explore advanced options to fortify your business against cyber threats. After the seminar\, Get Support experts will be available for a face-to-face clinic with Grassroots\, offering advice to help you enhance your cyber security posture. Furthermore\, all businesses in attendance the opportunity to book a FREE Cyber Security GAP Analysis\, worth up to £1\,000! \nIf any of you are interested\, please email\, or let us know at reception and we will get you booked in!
URL:https://www.grassrootsworkspace.com/event/get-support-cyber-security-essentials-protect-your-business/
LOCATION:Online
ATTACH;FMTTYPE=image/jpeg:https://www.grassrootsworkspace.com/wp-content/uploads/2024/10/Capture-1.jpg
END:VEVENT
BEGIN:VEVENT
DTSTART;TZID=UTC:20241112T090000
DTEND;TZID=UTC:20241112T170000
DTSTAMP:20260425T154528
CREATED:20240719T150756Z
LAST-MODIFIED:20240719T150756Z
UID:7759-1731402000-1731430800@www.grassrootsworkspace.com
SUMMARY:Free Coaching Drop-in with Claudia Filsinger\, Moving Maps Ltd.
DESCRIPTION:Claudia Filsinger\, executive coach and founder of Moving Maps Ltd. will support the Grassroots and Oxford Trust communities by providing a thinking space and being a sounding board with no agenda for any of your work challenges or growth opportunities. \nCoaching supports you in expanding your thinking through deep listening\, questions\, mirroring back\, exploring and challenging limiting beliefs\, assumptions and potential blind spots. Coaches don’t give advice but help you to uncover the solutions you might not know yet that you know already! \nYou can use the coaching to reflect on current or future challenges\, but also to learn from past events. Common coaching topics you could bring: \n\nGenerating and evaluating options for problem-solving or decision making\n\n\nTransitioning into new roles\n\n\nIncreasing personal effectiveness and communication\n\n\nPeople management & leadership\n\n\nManaging the “inner critical voice” and imposter syndrome\n\n\nPreparing for challenging or high-stakes conversations or meetings\n\n\nManaging conflict\n\n\nSupporting the people-side of change before or after restructuring or M&A\n\n\nStakeholder management\n\nThis free “Coaching drop-in” is open to all companies within the Grassroots and Oxford Trust Community. No booking is required and it will be held in Grassroots. Drop-in on the day in person or email claudia.filsinger@moving-maps.com to receive a Zoom link for an online meeting. Coaching drop-ins are usually 30-45mins long and coachees are often surprised how much can be achieved within a short\, one-off coaching conversation! \nAbout Claudia Filsinger\, Executive Coach and Founder of Moving Maps Ltd. \nClaudia is a highly versatile and experienced coach and facilitator\, having worked with clients in a wide range of companies\, industries\, geographies\, functions and seniority for 15 years. She founded Moving Maps LTD. to make systemic and visual self-coaching tools accessible to her clients. Her corporate background is in international sales and learning & development roles in the IT/tech and media industries. She has also lectured in business\, management and coaching at Oxford Brookes Business School. \n  \n  \n 
URL:https://www.grassrootsworkspace.com/event/free-coaching-drop-in-with-claudia-filsinger-moving-maps-ltd-4/
LOCATION:Grassroots Workspace\, 46 Woodstock Road\, Oxford\, OX2 6HT\, United Kingdom
ATTACH;FMTTYPE=image/png:https://www.grassrootsworkspace.com/wp-content/uploads/2024/07/Untitled-design-e1741960032385.png
ORGANIZER;CN="Grassroots":MAILTO:enquiries@grassrootsworkspace.com
END:VEVENT
BEGIN:VEVENT
DTSTART;VALUE=DATE:20241114
DTEND;VALUE=DATE:20241115
DTSTAMP:20260425T154528
CREATED:20241024T140339Z
LAST-MODIFIED:20241024T140339Z
UID:7824-1731542400-1731628799@www.grassrootsworkspace.com
SUMMARY:Knights - Professionals On Hand (Regulatory Law)
DESCRIPTION:Knights is a recent joiner to Grassroots and will be supporting the entrepreneurial community with professionals on hand to address any of your legal challenges. \nKnights is a legal and professional services business with 1\,000+ professionals delivering high-quality services to over 10\,000 business clients from 23 office locations across the UK. \nKnights will have members of the team here in Grassroots throughout November and December who specialize in: \n\nAsset Management\nProperty Litigation\nDispute Resolution\nProperty Management\nDevelopment & Consumer Law\nRegulatory Law\nCommercial Law\nEmployment Law\nDispute Resolution\nImmigration Law
URL:https://www.grassrootsworkspace.com/event/knights-professionals-on-hand-regulatory-law-6/
LOCATION:Grassroots Workspace\, 46 Woodstock Road\, Oxford\, OX2 6HT\, United Kingdom
ATTACH;FMTTYPE=image/png:https://www.grassrootsworkspace.com/wp-content/uploads/2024/07/Untitled-design-1.png
END:VEVENT
BEGIN:VEVENT
DTSTART;TZID=UTC:20241114T180000
DTEND;TZID=UTC:20241114T200000
DTSTAMP:20260425T154528
CREATED:20241021T144400Z
LAST-MODIFIED:20241021T144400Z
UID:7806-1731607200-1731614400@www.grassrootsworkspace.com
SUMMARY:The Marketing Meetup
DESCRIPTION:Grassroots is excited to host another Marketing Meetup! \nThe Marketing Meetup is an informal\, friendly place for the marketers of Oxford to meet\, learn\, and share knowledge with one another. Come in ‘listen’ not ‘sell’ mode 🙂 Think of this as a community event\, where the focus is very much on you meeting other people in a chilled-out friendly space. We’ll chat over food and drink\, listen to an inspirational speaker or two\, chat some more\, and go home buzzing with new contacts and new ideas. \nThe format of the night: \n6.00 pm – doors open – drinks\, networking\, and smiles\n6.30 pm – introduction and talks begin\n7.15 pm – talks finish\, networking\, listening\, saying hello\, and positively lovely people – a nice chilled out time 🙂\n7.45 pm – end of the night – you leave with new contacts and fresh ideas \nSupported by Sharp Ahead\, a full service B2B digital marketing agency serving organisations with specialist B2B products and services. Check them out at https://sharpahead.com \nThis is a donation ticketed event. The ticket price is yours to choose\, from £3 to £30 🙂 \nPlease let your marketing friends and colleagues know about this group too\, I hope to build it into a great resource for the community over the coming months and years. Attendance will be taken at this event. If you sign up but don’t show up\, this has a knock on effect on event arrangements. If it happens 3 times\, you’re outta here! This is simply a measure to allow appropriate respect to the organizers\, speakers\, sponsors\, and your fellow community members 🙂
URL:https://www.grassrootsworkspace.com/event/the-marketing-meetup/
LOCATION:Grassroots Workspace\, 46 Woodstock Road\, Oxford\, OX2 6HT\, United Kingdom
ATTACH;FMTTYPE=image/png:https://www.grassrootsworkspace.com/wp-content/uploads/2024/01/TMM-EVent.png
END:VEVENT
BEGIN:VEVENT
DTSTART;VALUE=DATE:20241119
DTEND;VALUE=DATE:20241120
DTSTAMP:20260425T154528
CREATED:20241024T140502Z
LAST-MODIFIED:20241024T140502Z
UID:7825-1731974400-1732060799@www.grassrootsworkspace.com
SUMMARY:Knights - Professionals On Hand (Employment Law)
DESCRIPTION:Knights is a recent joiner to Grassroots and will be supporting the entrepreneurial community with professionals on hand to address any of your legal challenges. \nKnights is a legal and professional services business with 1\,000+ professionals delivering high-quality services to over 10\,000 business clients from 23 office locations across the UK. \nKnights will have members of the team here in Grassroots throughout November and December who specialize in: \n\nAsset Management\nProperty Litigation\nDispute Resolution\nProperty Management\nDevelopment & Consumer Law\nRegulatory Law\nCommercial Law\nEmployment Law\nDispute Resolution\nImmigration Law
URL:https://www.grassrootsworkspace.com/event/knights-professionals-on-hand-employment-law/
LOCATION:Grassroots Workspace\, 46 Woodstock Road\, Oxford\, OX2 6HT\, United Kingdom
ATTACH;FMTTYPE=image/png:https://www.grassrootsworkspace.com/wp-content/uploads/2024/07/Untitled-design-1.png
END:VEVENT
BEGIN:VEVENT
DTSTART;TZID=UTC:20241119T121500
DTEND;TZID=UTC:20241119T141500
DTSTAMP:20260425T154528
CREATED:20241021T141508Z
LAST-MODIFIED:20241022T084151Z
UID:7791-1732018500-1732025700@www.grassrootsworkspace.com
SUMMARY:The Innovation Roundtable - UK Property Forums
DESCRIPTION:THE INNOVATION ROUNDTABLE – OXFORDSHIRE\nHOME OF THE UNICORN? \nWe are pleased to invite Grassroots members to a Round Table Lunch which will explore with a select group of invitees how Oxfordshire can encourage fast-growing companies to locate in the region & what these companies will require in their journey to becoming ‘Unicorn’ companies. Against the backdrop of the Government’s Budget\, this will draw upon the many issues needed to encourage future growth in Oxfordshire. \nRVSP: info@ukpropertyforums.com
URL:https://www.grassrootsworkspace.com/event/the-innovation-roundtable-uk-property-forums/
LOCATION:Grassroots Workspace\, 46 Woodstock Road\, Oxford\, OX2 6HT\, United Kingdom
ATTACH;FMTTYPE=image/jpeg:https://www.grassrootsworkspace.com/wp-content/uploads/2024/10/UK-property-forums-1.jpg
END:VEVENT
BEGIN:VEVENT
DTSTART;VALUE=DATE:20241121
DTEND;VALUE=DATE:20241122
DTSTAMP:20260425T154528
CREATED:20241024T140652Z
LAST-MODIFIED:20241107T144314Z
UID:7826-1732147200-1732233599@www.grassrootsworkspace.com
SUMMARY:Knights - Professionals On Hand (Employment Law)
DESCRIPTION:Knights is a recent joiner to Grassroots and will be supporting the entrepreneurial community with professionals on hand to address any of your legal challenges. \nKnights is a legal and professional services business with 1\,000+ professionals delivering high-quality services to over 10\,000 business clients from 23 office locations across the UK. \nKnights will have members of the team here in Grassroots throughout November and December who specialize in: \n\nAsset Management\nProperty Litigation\nDispute Resolution\nProperty Management\nDevelopment & Consumer Law\nRegulatory Law\nCommercial Law\nEmployment Law\nDispute Resolution\nImmigration Law
URL:https://www.grassrootsworkspace.com/event/knights-professionals-on-hand-immigration-law/
LOCATION:Grassroots Workspace\, 46 Woodstock Road\, Oxford\, OX2 6HT\, United Kingdom
ATTACH;FMTTYPE=image/png:https://www.grassrootsworkspace.com/wp-content/uploads/2024/07/Untitled-design-1.png
END:VEVENT
BEGIN:VEVENT
DTSTART;TZID=UTC:20241121T170000
DTEND;TZID=UTC:20241121T200000
DTSTAMP:20260425T154528
CREATED:20241021T150305Z
LAST-MODIFIED:20241022T083432Z
UID:7807-1732208400-1732219200@www.grassrootsworkspace.com
SUMMARY:Activating Networks for Success: Leveraging Connections in Life Sciences and BioPharma
DESCRIPTION:Conexen are an independent group of healthcare executives across various disciplines and corporate cultures that value relationship and community building at all stages of people’s careers. They are driven by radical generosity\, which means that their main purpose is to proactively share their collective pool of resources\, where people with common backgrounds and interests can exchange information\, trends\, and innovative ideas to collaborate and give back in a relaxed setting. \nThis panel will inspire you to shift from transactional networking to creating real\, transformative change in biotech and healthcare. \nTickets can be found here – https://conexen.net/conexen-events/conexen-oxford-november/
URL:https://www.grassrootsworkspace.com/event/activating-networks-for-success-leveraging-connections-in-life-sciences-and-biopharma/
LOCATION:Grassroots Workspace\, 46 Woodstock Road\, Oxford\, OX2 6HT\, United Kingdom
ATTACH;FMTTYPE=image/webp:https://www.grassrootsworkspace.com/wp-content/uploads/2024/10/Conexen_Final-Logo-2024-768x245.png.webp
END:VEVENT
BEGIN:VEVENT
DTSTART;TZID=UTC:20241128T093000
DTEND;TZID=UTC:20241128T110000
DTSTAMP:20260425T154528
CREATED:20241119T141750Z
LAST-MODIFIED:20241119T142031Z
UID:7845-1732786200-1732791600@www.grassrootsworkspace.com
SUMMARY:Developing Intelligent Solutions with AI and Unlocking GPT’s Power
DESCRIPTION:Thursday 28th of November from 9:30am – 11am\, Microsoft Teams \nA new initiative designed to bring industry-leading insights to local businesses has officially launched. The Oxford Innovation Sessions\, a series of six exclusive talks\, will feature experts from top companies including Microsoft\, Barclays\, and Oxford Innovation Finance\, covering cutting-edge topics in Artificial Intelligence\, Business Development\, Marketing\, and more. \nThe Oxford Innovation Sessions aim to address some of the most pressing challenges faced by businesses today\, from securing financing and leveraging new technologies\, to navigating the evolving digital marketing landscape. \nThe Oxford Innovation Sessions will run from now until March 2025\, with events exclusively available to Oxford Innovation Space customers. \nEach session will feature a 30-minute talk from a leading expert followed by interactive Q&A\, all streamed live online. The first event\, “Developing Intelligent Solutions with AI and Unlocking GPT’s Power”\, will be led by Michael Gillett & Paul Veck from Microsoft on Thursday.
URL:https://www.grassrootsworkspace.com/event/developing-intelligent-solutions-with-ai-and-unlocking-gpts-power/
LOCATION:Online
CATEGORIES:Members Only
ATTACH;FMTTYPE=image/png:https://www.grassrootsworkspace.com/wp-content/uploads/2024/11/Oxford-innovation-event.png
END:VEVENT
BEGIN:VEVENT
DTSTART;TZID=UTC:20241128T100000
DTEND;TZID=UTC:20241128T140000
DTSTAMP:20260425T154528
CREATED:20241021T151316Z
LAST-MODIFIED:20241030T125848Z
UID:7811-1732788000-1732802400@www.grassrootsworkspace.com
SUMMARY:Investor Showcase - The Hill
DESCRIPTION:Are you looking to gain investment in your digital health innovation or business? You might be interested in pitching to investors as part of our upcoming Investor Showcase event. \nTaking place this November in Oxford City Centre\, The Hill are offering companies with digital innovations the opportunity to pitch to their investor panel on the 28 November 2024. \nTheHill’s mission is to help\, support and scale innovative technologies which can improve on patient care and reduce the pressure on frontline staff. \nRegister here and find more details here: https://www.thehilloxford.org/events/investor-showcase-2/
URL:https://www.grassrootsworkspace.com/event/investor-showcase/
LOCATION:Grassroots Workspace\, 46 Woodstock Road\, Oxford\, OX2 6HT\, United Kingdom
ATTACH;FMTTYPE=image/png:https://www.grassrootsworkspace.com/wp-content/uploads/2024/04/the-hill-event-e1729523692300.png
END:VEVENT
END:VCALENDAR