BEGIN:VCALENDAR
VERSION:2.0
PRODID:-//Grassroots - ECPv6.15.20//NONSGML v1.0//EN
CALSCALE:GREGORIAN
METHOD:PUBLISH
X-WR-CALNAME:Grassroots
X-ORIGINAL-URL:https://www.grassrootsworkspace.com
X-WR-CALDESC:Events for Grassroots
REFRESH-INTERVAL;VALUE=DURATION:PT1H
X-Robots-Tag:noindex
X-PUBLISHED-TTL:PT1H
BEGIN:VTIMEZONE
TZID:UTC
BEGIN:STANDARD
TZOFFSETFROM:+0000
TZOFFSETTO:+0000
TZNAME:UTC
DTSTART:20230101T000000
END:STANDARD
END:VTIMEZONE
BEGIN:VEVENT
DTSTART;TZID=UTC:20241001T090000
DTEND;TZID=UTC:20241001T170000
DTSTAMP:20260425T171515
CREATED:20240902T144329Z
LAST-MODIFIED:20240902T150320Z
UID:7782-1727773200-1727802000@www.grassrootsworkspace.com
SUMMARY:Knights - Professionals On Hand (Regulatory Law)
DESCRIPTION:Knights is a recent joiner to Grassroots and will be supporting the entrepreneurial community with professionals on hand to address any of your legal challenges. \nKnights is a legal and professional services business with 1\,000+ professionals delivering high-quality services to over 10\,000 business clients from 23 office locations across the UK. \nKnights will have members of the team here in Grassroots throughout September and October who specialize in: \n\nAsset Management\nProperty Litigation\nDispute Resolution\nProperty Management\nDevelopment & Consumer Law\nRegulatory Law\nCommercial Law\nEmployment Law\nDispute Resolution\nImmigration Law\n\n 
URL:https://www.grassrootsworkspace.com/event/knights-professionals-on-hand-regulatory-law-4/
LOCATION:Grassroots Workspace\, 46 Woodstock Road\, Oxford\, OX2 6HT\, United Kingdom
ATTACH;FMTTYPE=image/png:https://www.grassrootsworkspace.com/wp-content/uploads/2024/07/Untitled-design-1.png
END:VEVENT
BEGIN:VEVENT
DTSTART;TZID=UTC:20241003T090000
DTEND;TZID=UTC:20241003T170000
DTSTAMP:20260425T171515
CREATED:20240902T144412Z
LAST-MODIFIED:20240902T150236Z
UID:7783-1727946000-1727974800@www.grassrootsworkspace.com
SUMMARY:Knights - Professionals On Hand (Regulatory Law)
DESCRIPTION:Knights is a recent joiner to Grassroots and will be supporting the entrepreneurial community with professionals on hand to address any of your legal challenges. \nKnights is a legal and professional services business with 1\,000+ professionals delivering high-quality services to over 10\,000 business clients from 23 office locations across the UK. \nKnights will have members of the team here in Grassroots throughout September and October who specialize in: \n\nAsset Management\nProperty Litigation\nDispute Resolution\nProperty Management\nDevelopment & Consumer Law\nRegulatory Law\nCommercial Law\nEmployment Law\nDispute Resolution\nImmigration Law\n\n 
URL:https://www.grassrootsworkspace.com/event/knights-professionals-on-hand-regulatory-law-5/
LOCATION:Grassroots Workspace\, 46 Woodstock Road\, Oxford\, OX2 6HT\, United Kingdom
ATTACH;FMTTYPE=image/png:https://www.grassrootsworkspace.com/wp-content/uploads/2024/07/Untitled-design-1.png
END:VEVENT
BEGIN:VEVENT
DTSTART;TZID=UTC:20241014T183000
DTEND;TZID=UTC:20241014T210000
DTSTAMP:20260425T171515
CREATED:20240903T134654Z
LAST-MODIFIED:20240903T134654Z
UID:7787-1728930600-1728939600@www.grassrootsworkspace.com
SUMMARY:CAMentrepreneurs In Oxford!
DESCRIPTION:Grassroots Workspace are proud to be hosting CAMentrepreneurs autumn event for entrepreneurs\, investors\, students and others on Monday 14th October at our home. \nAs with other CAMentrepreneurs events the main focus will be on structured networking so you can make plenty of new connections. Past successes have included new friends\, investments\, finding a co-founder and just old fashioned free advice from people who have been there! \nSpecial Guest Elliott Cooper\, Global Professional Stunt Performer\, Professional Gymnast\, Former Captain of England\, 2022 ITF Taekwondo World Champion and founder of 3 start-ups will be asking the question “Are you boring enough to be World Class?” \nSponsored by Penningtons Manches Cooper LLP and hosted by Jon Hill Linkedin and Richard Lucas Linkedin\,  in addition to seeing a great speaker you will have an opportunity for you to share your start-up or service as one of 15\, 1 minute pitch slots. This is all part of 2 hours of organised networking over soft drinks\, wine and canapés at our wonderful building on Woodstock Road. \nPlease register as places will go quickly.  \nDo you also want to do a 1-minute pitch? Request a slot here: The number of slots is limited.\n\nIf you want to help CAMentrepreneurs thrive in Oxford\, please let them know via this simple form \nAbout CAMentrepreneurs \nSince its launch in 2016 CAMentrepreneurs has held more than 72 events in Boston\, Cambridge\, Dubai\, Edinburgh\, Glasgow\, Helsinki\, Houston\, Lisbon London\, Oxford\, Paris\, New York\, Seoul\, Shanghai\, Sydney\, Vancouver and Warsaw. We partner with organisations like London Business School\, LSE\, Imperial and Judge Business School. \nThe group is officially recognised by Cambridge University Alumni Association. Their aim is to bring together positive minded alumni and others who want to work together on a voluntary basis to support enterprise\, whether as entrepreneurs\, investors\, students or service providers. \nFor regular updates\, please feel free to join: \nLinkedin group \nMighty Networks group \nwww.camentrepreneurs.com \nwww.alumni.cam.ac.uk/group/camentrepreneurs
URL:https://www.grassrootsworkspace.com/event/camentrepreneurs-in-oxford/
LOCATION:Grassroots Workspace\, 46 Woodstock Road\, Oxford\, OX2 6HT\, United Kingdom
ATTACH;FMTTYPE=image/png:https://www.grassrootsworkspace.com/wp-content/uploads/2024/09/cam.png
END:VEVENT
BEGIN:VEVENT
DTSTART;TZID=UTC:20241015T090000
DTEND;TZID=UTC:20241015T170000
DTSTAMP:20260425T171515
CREATED:20240719T150707Z
LAST-MODIFIED:20240719T150707Z
UID:7758-1728982800-1729011600@www.grassrootsworkspace.com
SUMMARY:Free Coaching Drop-in with Claudia Filsinger\, Moving Maps Ltd.
DESCRIPTION:Claudia Filsinger\, executive coach and founder of Moving Maps Ltd. will support the Grassroots and Oxford Trust communities by providing a thinking space and being a sounding board with no agenda for any of your work challenges or growth opportunities. \nCoaching supports you in expanding your thinking through deep listening\, questions\, mirroring back\, exploring and challenging limiting beliefs\, assumptions and potential blind spots. Coaches don’t give advice but help you to uncover the solutions you might not know yet that you know already! \nYou can use the coaching to reflect on current or future challenges\, but also to learn from past events. Common coaching topics you could bring: \n\nGenerating and evaluating options for problem-solving or decision making\n\n\nTransitioning into new roles\n\n\nIncreasing personal effectiveness and communication\n\n\nPeople management & leadership\n\n\nManaging the “inner critical voice” and imposter syndrome\n\n\nPreparing for challenging or high-stakes conversations or meetings\n\n\nManaging conflict\n\n\nSupporting the people-side of change before or after restructuring or M&A\n\n\nStakeholder management\n\nThis free “Coaching drop-in” is open to all companies within the Grassroots and Oxford Trust Community. No booking is required and it will be held in Grassroots. Drop-in on the day in person or email claudia.filsinger@moving-maps.com to receive a Zoom link for an online meeting. Coaching drop-ins are usually 30-45mins long and coachees are often surprised how much can be achieved within a short\, one-off coaching conversation! \nAbout Claudia Filsinger\, Executive Coach and Founder of Moving Maps Ltd. \nClaudia is a highly versatile and experienced coach and facilitator\, having worked with clients in a wide range of companies\, industries\, geographies\, functions and seniority for 15 years. She founded Moving Maps LTD. to make systemic and visual self-coaching tools accessible to her clients. Her corporate background is in international sales and learning & development roles in the IT/tech and media industries. She has also lectured in business\, management and coaching at Oxford Brookes Business School. \n  \n  \n 
URL:https://www.grassrootsworkspace.com/event/free-coaching-drop-in-with-claudia-filsinger-moving-maps-ltd-3/
LOCATION:Grassroots Workspace\, 46 Woodstock Road\, Oxford\, OX2 6HT\, United Kingdom
ATTACH;FMTTYPE=image/png:https://www.grassrootsworkspace.com/wp-content/uploads/2024/07/Untitled-design-e1741960032385.png
ORGANIZER;CN="Grassroots":MAILTO:enquiries@grassrootsworkspace.com
END:VEVENT
BEGIN:VEVENT
DTSTART;TZID=UTC:20241016T140000
DTEND;TZID=UTC:20241016T150000
DTSTAMP:20260425T171515
CREATED:20240911T143500Z
LAST-MODIFIED:20240911T143653Z
UID:7793-1729087200-1729090800@www.grassrootsworkspace.com
SUMMARY:World Food Day
DESCRIPTION:Join us at the Grassroots Kitchen to celebrate World Food Day. \nWe would love it if our members could contribute and bring along a dish from their home country! \nWe look forward to seeing you all there!
URL:https://www.grassrootsworkspace.com/event/world-food-day/
LOCATION:Grassroots Workspace\, 46 Woodstock Road\, Oxford\, OX2 6HT\, United Kingdom
ATTACH;FMTTYPE=image/jpeg:https://www.grassrootsworkspace.com/wp-content/uploads/2024/05/Capture.jpg
ORGANIZER;CN="Grassroots":MAILTO:enquiries@grassrootsworkspace.com
END:VEVENT
BEGIN:VEVENT
DTSTART;TZID=UTC:20241017T180000
DTEND;TZID=UTC:20241017T200000
DTSTAMP:20260425T171515
CREATED:20240618T144511Z
LAST-MODIFIED:20240618T144511Z
UID:7736-1729188000-1729195200@www.grassrootsworkspace.com
SUMMARY:Start-up Huddle Oxford Networking Event
DESCRIPTION:Come and network with Startup founders and entrepreneurs in the Business & IP Centre\, Oxford Westgate Library. \nStartup Huddle is designed to help one entrepreneur at a time while strengthening the local Oxfordshire ecosystem. With 1 or 2 preselected start-ups presenting their business followed by QA and plenty of time for networking. \nEntrepreneurs discover solutions to the challenges they face through purposeful engagement with a broad array of voices from the Oxfordshire community. \nParticipants encouraged to support one another with their local links\, knowledge and insights. With a great opportunity to explore all of the facilities and resources available to access for free at Oxfordshire Business & IP Centre. \nHot and cold refreshments included.
URL:https://www.grassrootsworkspace.com/event/start-up-huddle-oxford-networking-event-5/
LOCATION:Westgate Library
ATTACH;FMTTYPE=image/jpeg:https://www.grassrootsworkspace.com/wp-content/uploads/2024/06/Capture.jpg
END:VEVENT
BEGIN:VEVENT
DTSTART;TZID=UTC:20241030T090000
DTEND;TZID=UTC:20241030T170000
DTSTAMP:20260425T171515
CREATED:20240419T132809Z
LAST-MODIFIED:20240419T132809Z
UID:7623-1730278800-1730307600@www.grassrootsworkspace.com
SUMMARY:Taylor Wessing Free legal drop-in clinic
DESCRIPTION:  \nTaylor Wessing is a recent joiner to the Grassroots and will be supporting the entrepreneurial community with free “drop-in clinic” to address any of your legal challenges. \n  \nJames Homan (a partner in Corporate Technology Group) and Nicola Caton (senior associate)\, as well as other members of the TW team\, will be running the clinic. \n  \nTW is a global law firm known for supporting technology and life science companies through the life cycle from “cradle to liquidity”\, from obtaining investment funding (from seed to series D and beyond)\, to launching and licensing products\, protecting data and IP rights\, and delivering successful exits for founders and investors. \n  \nFree legal drop-in clinic \n  \nThe free “drop-in clinic” is open to all companies within the Grassroots and Oxford Trust community. No booking is required and will be initially held in either Meeting Room 1 or Meeting Room 2 in Grassroots. \n  \nGiven the TW sector focus\, the drop-in clinic will be of most value to tech and life sciences start-ups\, companies and investors\, but the firm advises across four main sectors\, covering: \n  \n\nTechnology\, media and communications\nLife sciences and healthcare\nReal Estate\, infrastructure and energy\nPrivate wealth\n\n  \nThe clinic with run on Wednesdays in two-week cycles. \n  \nAbout Taylor Wessing \nTaylor Wessing is a global law firm that serves the world’s most innovative people and businesses. \nTW are ranked band 1 for VC capabilities (across all legal directories) and uniquely the only firm also with a band 1 ranked biotechnology practice. TW Corporate Technology team advise on 300+ venture and growth funding rounds a year as well M&A transactions for exiting founders\, companies and investors. \nFor its early-stage companies\, TW can offer a heavily discounted package of services\, most of them on a fixed fee basis. \nDo feel free to reach-out our Taylor Wessing “lawyers in residence” (!) should you have any queries. \nj.homan@taylorwessing.com \nn.caton@taylorwessing.com \n 
URL:https://www.grassrootsworkspace.com/event/taylor-wessing-free-legal-drop-in-clinic-9/
LOCATION:Grassroots Workspace\, 46 Woodstock Road\, Oxford\, OX2 6HT\, United Kingdom
ATTACH;FMTTYPE=image/png:https://www.grassrootsworkspace.com/wp-content/uploads/2024/04/taylor-wessing-logo-vector-768x427-1.png
END:VEVENT
BEGIN:VEVENT
DTSTART;VALUE=DATE:20241031
DTEND;VALUE=DATE:20241101
DTSTAMP:20260425T171515
CREATED:20241024T130343Z
LAST-MODIFIED:20241024T132939Z
UID:7820-1730332800-1730419199@www.grassrootsworkspace.com
SUMMARY:Knights - Professionals On Hand (Real Estate)
DESCRIPTION:Knights is a recent joiner to Grassroots and will be supporting the entrepreneurial community with professionals on hand to address any of your legal challenges. \nKnights is a legal and professional services business with 1\,000+ professionals delivering high-quality services to over 10\,000 business clients from 23 office locations across the UK. \nKnights will have members of the team here in Grassroots throughout November and December who specialize in: \n\nAsset Management\nProperty Litigation\nDispute Resolution\nProperty Management\nDevelopment & Consumer Law\nRegulatory Law\nCommercial Law\nEmployment Law\nDispute Resolution\nImmigration Law
URL:https://www.grassrootsworkspace.com/event/knights-professionals-on-hand-real-estate-2/
LOCATION:Grassroots Workspace\, 46 Woodstock Road\, Oxford\, OX2 6HT\, United Kingdom
ATTACH;FMTTYPE=image/png:https://www.grassrootsworkspace.com/wp-content/uploads/2024/07/Untitled-design-1.png
END:VEVENT
BEGIN:VEVENT
DTSTART;TZID=UTC:20241031T150000
DTEND;TZID=UTC:20241031T170000
DTSTAMP:20260425T171515
CREATED:20240911T144019Z
LAST-MODIFIED:20240911T144030Z
UID:7794-1730386800-1730394000@www.grassrootsworkspace.com
SUMMARY:Pizza & Wine Down
DESCRIPTION:Join us at the end of the month for some pizza\, wine\, and an opportunity to mingle with the fellow Grassroots community! \nWe look forward to seeing you all there.
URL:https://www.grassrootsworkspace.com/event/pizza-wine-down/
LOCATION:Grassroots Workspace\, 46 Woodstock Road\, Oxford\, OX2 6HT\, United Kingdom
ATTACH;FMTTYPE=image/jpeg:https://www.grassrootsworkspace.com/wp-content/uploads/2024/05/Capture.jpg
ORGANIZER;CN="Grassroots":MAILTO:enquiries@grassrootsworkspace.com
END:VEVENT
END:VCALENDAR