BEGIN:VCALENDAR
VERSION:2.0
PRODID:-//Grassroots - ECPv6.15.20//NONSGML v1.0//EN
CALSCALE:GREGORIAN
METHOD:PUBLISH
X-WR-CALNAME:Grassroots
X-ORIGINAL-URL:https://www.grassrootsworkspace.com
X-WR-CALDESC:Events for Grassroots
REFRESH-INTERVAL;VALUE=DURATION:PT1H
X-Robots-Tag:noindex
X-PUBLISHED-TTL:PT1H
BEGIN:VTIMEZONE
TZID:UTC
BEGIN:STANDARD
TZOFFSETFROM:+0000
TZOFFSETTO:+0000
TZNAME:UTC
DTSTART:20230101T000000
END:STANDARD
END:VTIMEZONE
BEGIN:VEVENT
DTSTART;TZID=UTC:20240813T090000
DTEND;TZID=UTC:20240813T170000
DTSTAMP:20260425T205709
CREATED:20240719T150254Z
LAST-MODIFIED:20240719T150254Z
UID:7752-1723539600-1723568400@www.grassrootsworkspace.com
SUMMARY:Free Coaching Drop-in with Claudia Filsinger\, Moving Maps Ltd.
DESCRIPTION:Claudia Filsinger\, executive coach and founder of Moving Maps Ltd. will support the Grassroots and Oxford Trust communities by providing a thinking space and being a sounding board with no agenda for any of your work challenges or growth opportunities. \nCoaching supports you in expanding your thinking through deep listening\, questions\, mirroring back\, exploring and challenging limiting beliefs\, assumptions and potential blind spots. Coaches don’t give advice but help you to uncover the solutions you might not know yet that you know already! \nYou can use the coaching to reflect on current or future challenges\, but also to learn from past events. Common coaching topics you could bring: \n\nGenerating and evaluating options for problem-solving or decision making\n\n\nTransitioning into new roles\n\n\nIncreasing personal effectiveness and communication\n\n\nPeople management & leadership\n\n\nManaging the “inner critical voice” and imposter syndrome\n\n\nPreparing for challenging or high-stakes conversations or meetings\n\n\nManaging conflict\n\n\nSupporting the people-side of change before or after restructuring or M&A\n\n\nStakeholder management\n\nThis free “Coaching drop-in” is open to all companies within the Grassroots and Oxford Trust Community. No booking is required and it will be held in Grassroots. Drop-in on the day in person or email claudia.filsinger@moving-maps.com to receive a Zoom link for an online meeting. Coaching drop-ins are usually 30-45mins long and coachees are often surprised how much can be achieved within a short\, one-off coaching conversation! \nAbout Claudia Filsinger\, Executive Coach and Founder of Moving Maps Ltd. \nClaudia is a highly versatile and experienced coach and facilitator\, having worked with clients in a wide range of companies\, industries\, geographies\, functions and seniority for 15 years. She founded Moving Maps LTD. to make systemic and visual self-coaching tools accessible to her clients. Her corporate background is in international sales and learning & development roles in the IT/tech and media industries. She has also lectured in business\, management and coaching at Oxford Brookes Business School. \n  \n  \n 
URL:https://www.grassrootsworkspace.com/event/free-coaching-drop-in-with-claudia-filsinger-moving-maps-ltd/
LOCATION:Grassroots Workspace\, 46 Woodstock Road\, Oxford\, OX2 6HT\, United Kingdom
ATTACH;FMTTYPE=image/png:https://www.grassrootsworkspace.com/wp-content/uploads/2024/07/Untitled-design-e1741960032385.png
ORGANIZER;CN="Grassroots":MAILTO:enquiries@grassrootsworkspace.com
END:VEVENT
BEGIN:VEVENT
DTSTART;TZID=UTC:20240815T180000
DTEND;TZID=UTC:20240815T200000
DTSTAMP:20260425T205709
CREATED:20240618T144330Z
LAST-MODIFIED:20240618T144330Z
UID:7734-1723744800-1723752000@www.grassrootsworkspace.com
SUMMARY:Start-up Huddle Oxford Networking Event
DESCRIPTION:Come and network with Startup founders and entrepreneurs in the Business & IP Centre\, Oxford Westgate Library. \nStartup Huddle is designed to help one entrepreneur at a time while strengthening the local Oxfordshire ecosystem. With 1 or 2 preselected start-ups presenting their business followed by QA and plenty of time for networking. \nEntrepreneurs discover solutions to the challenges they face through purposeful engagement with a broad array of voices from the Oxfordshire community. \nParticipants encouraged to support one another with their local links\, knowledge and insights. With a great opportunity to explore all of the facilities and resources available to access for free at Oxfordshire Business & IP Centre. \nHot and cold refreshments included.
URL:https://www.grassrootsworkspace.com/event/start-up-huddle-oxford-networking-event-3/
LOCATION:Westgate Library
ATTACH;FMTTYPE=image/jpeg:https://www.grassrootsworkspace.com/wp-content/uploads/2024/06/Capture.jpg
END:VEVENT
BEGIN:VEVENT
DTSTART;TZID=UTC:20240828T090000
DTEND;TZID=UTC:20240828T170000
DTSTAMP:20260425T205709
CREATED:20240419T132720Z
LAST-MODIFIED:20240419T132720Z
UID:7621-1724835600-1724864400@www.grassrootsworkspace.com
SUMMARY:Taylor Wessing Free legal drop-in clinic
DESCRIPTION:  \nTaylor Wessing is a recent joiner to the Grassroots and will be supporting the entrepreneurial community with free “drop-in clinic” to address any of your legal challenges. \n  \nJames Homan (a partner in Corporate Technology Group) and Nicola Caton (senior associate)\, as well as other members of the TW team\, will be running the clinic. \n  \nTW is a global law firm known for supporting technology and life science companies through the life cycle from “cradle to liquidity”\, from obtaining investment funding (from seed to series D and beyond)\, to launching and licensing products\, protecting data and IP rights\, and delivering successful exits for founders and investors. \n  \nFree legal drop-in clinic \n  \nThe free “drop-in clinic” is open to all companies within the Grassroots and Oxford Trust community. No booking is required and will be initially held in either Meeting Room 1 or Meeting Room 2 in Grassroots. \n  \nGiven the TW sector focus\, the drop-in clinic will be of most value to tech and life sciences start-ups\, companies and investors\, but the firm advises across four main sectors\, covering: \n  \n\nTechnology\, media and communications\nLife sciences and healthcare\nReal Estate\, infrastructure and energy\nPrivate wealth\n\n  \nThe clinic with run on Wednesdays in two-week cycles. \n  \nAbout Taylor Wessing \nTaylor Wessing is a global law firm that serves the world’s most innovative people and businesses. \nTW are ranked band 1 for VC capabilities (across all legal directories) and uniquely the only firm also with a band 1 ranked biotechnology practice. TW Corporate Technology team advise on 300+ venture and growth funding rounds a year as well M&A transactions for exiting founders\, companies and investors. \nFor its early-stage companies\, TW can offer a heavily discounted package of services\, most of them on a fixed fee basis. \nDo feel free to reach-out our Taylor Wessing “lawyers in residence” (!) should you have any queries. \nj.homan@taylorwessing.com \nn.caton@taylorwessing.com \n 
URL:https://www.grassrootsworkspace.com/event/taylor-wessing-free-legal-drop-in-clinic-7/
LOCATION:Grassroots Workspace\, 46 Woodstock Road\, Oxford\, OX2 6HT\, United Kingdom
ATTACH;FMTTYPE=image/png:https://www.grassrootsworkspace.com/wp-content/uploads/2024/04/taylor-wessing-logo-vector-768x427-1.png
END:VEVENT
END:VCALENDAR