BEGIN:VCALENDAR
VERSION:2.0
PRODID:-//Grassroots - ECPv6.15.20//NONSGML v1.0//EN
CALSCALE:GREGORIAN
METHOD:PUBLISH
X-WR-CALNAME:Grassroots
X-ORIGINAL-URL:https://www.grassrootsworkspace.com
X-WR-CALDESC:Events for Grassroots
REFRESH-INTERVAL;VALUE=DURATION:PT1H
X-Robots-Tag:noindex
X-PUBLISHED-TTL:PT1H
BEGIN:VTIMEZONE
TZID:UTC
BEGIN:STANDARD
TZOFFSETFROM:+0000
TZOFFSETTO:+0000
TZNAME:UTC
DTSTART:20160101T000000
END:STANDARD
END:VTIMEZONE
BEGIN:VEVENT
DTSTART;VALUE=DATE:20170515
DTEND;VALUE=DATE:20170522
DTSTAMP:20260422T054415
CREATED:20170413T081949Z
LAST-MODIFIED:20170413T081949Z
UID:714-1494806400-1495411199@www.grassrootsworkspace.com
SUMMARY:Dementia Awareness Week
DESCRIPTION:
URL:https://www.grassrootsworkspace.com/event/dementia-awareness-week/
ATTACH;FMTTYPE=image/jpeg:https://www.grassrootsworkspace.com/wp-content/uploads/2017/04/Turning-Witney-Blue-Poster-2-905x1280-1.jpg
ORGANIZER;CN="Richmond Villages":MAILTO:suzi.morgan@richmond-villages.com
END:VEVENT
BEGIN:VEVENT
DTSTART;TZID=UTC:20170328T103000
DTEND;TZID=UTC:20170328T233000
DTSTAMP:20260422T054415
CREATED:20170215T164323Z
LAST-MODIFIED:20170215T164323Z
UID:688-1490697000-1490743800@www.grassrootsworkspace.com
SUMMARY:WBIC Quarterly Coffee Morning
DESCRIPTION:
URL:https://www.grassrootsworkspace.com/event/wbic-quarterly-coffee-morning/
LOCATION:Witney Business & Innovation Centre\, Windrush House\, Windrush Industrial Park\, Burford Road\, Witney\,  Oxfordshire\, OX29 7DX\, United Kingdom
ORGANIZER;CN="Witney Business &amp%3B Innovation Centre":MAILTO:witney@oxin.co.uk
END:VEVENT
BEGIN:VEVENT
DTSTART;TZID=UTC:20170208T080000
DTEND;TZID=UTC:20170208T113000
DTSTAMP:20260422T054415
CREATED:20170118T152059Z
LAST-MODIFIED:20170118T152059Z
UID:639-1486540800-1486553400@www.grassrootsworkspace.com
SUMMARY:Breakfast Networking
DESCRIPTION:Networking and collaboration are key to business success. \nSterling Network Groups has open categories available for professional individuals to join our business community.
URL:https://www.grassrootsworkspace.com/event/breakfast-networking-2/
END:VEVENT
BEGIN:VEVENT
DTSTART;TZID=UTC:20170125T080000
DTEND;TZID=UTC:20170125T113000
DTSTAMP:20260422T054415
CREATED:20170118T152030Z
LAST-MODIFIED:20170118T152030Z
UID:638-1485331200-1485343800@www.grassrootsworkspace.com
SUMMARY:Breakfast Networking
DESCRIPTION:Networking and collaboration are key to business success. \nSterling Network Groups has open categories available for professional individuals to join our business community.
URL:https://www.grassrootsworkspace.com/event/breakfast-networking/
END:VEVENT
END:VCALENDAR