BEGIN:VCALENDAR
VERSION:2.0
PRODID:-//Grassroots - ECPv6.15.20//NONSGML v1.0//EN
CALSCALE:GREGORIAN
METHOD:PUBLISH
X-WR-CALNAME:Grassroots
X-ORIGINAL-URL:https://www.grassrootsworkspace.com
X-WR-CALDESC:Events for Grassroots
REFRESH-INTERVAL;VALUE=DURATION:PT1H
X-Robots-Tag:noindex
X-PUBLISHED-TTL:PT1H
BEGIN:VTIMEZONE
TZID:UTC
BEGIN:STANDARD
TZOFFSETFROM:+0000
TZOFFSETTO:+0000
TZNAME:UTC
DTSTART:20250101T000000
END:STANDARD
END:VTIMEZONE
BEGIN:VEVENT
DTSTART;VALUE=DATE:20260401
DTEND;VALUE=DATE:20260403
DTSTAMP:20260420T073107
CREATED:20260327T102852Z
LAST-MODIFIED:20260327T102852Z
UID:8161-1775001600-1775174399@www.grassrootsworkspace.com
SUMMARY:Happy Easter 🐰🍫
DESCRIPTION:Get ready for some Easter fun! \n\nOn 1st–2nd April\, a group of cheeky little chicks will be hiding themselves all around Grassroots… and we need your help to find them! \nIf you spot one of our hidden chicks\, simply bring it to Reception and you’ll receive a chocolate egg as your reward.\nIt’s a light-hearted way to take a break\, explore the space\, and join in a bit of seasonal fun with your fellow members. \nHappy hunting — and Happy Easter! 🌼🐥
URL:https://www.grassrootsworkspace.com/event/happy-easter-%f0%9f%90%b0%f0%9f%8d%ab/
LOCATION:Grassroots Workspace\, 46 Woodstock Road\, Oxford\, OX2 6HT\, United Kingdom
ATTACH;FMTTYPE=image/png:https://www.grassrootsworkspace.com/wp-content/uploads/2026/03/Happy-Easter.png
ORGANIZER;CN="Grassroots":MAILTO:enquiries@grassrootsworkspace.com
END:VEVENT
END:VCALENDAR