BEGIN:VCALENDAR
VERSION:2.0
PRODID:-//Grassroots - ECPv6.15.20//NONSGML v1.0//EN
CALSCALE:GREGORIAN
METHOD:PUBLISH
X-WR-CALNAME:Grassroots
X-ORIGINAL-URL:https://www.grassrootsworkspace.com
X-WR-CALDESC:Events for Grassroots
REFRESH-INTERVAL;VALUE=DURATION:PT1H
X-Robots-Tag:noindex
X-PUBLISHED-TTL:PT1H
BEGIN:VTIMEZONE
TZID:UTC
BEGIN:STANDARD
TZOFFSETFROM:+0000
TZOFFSETTO:+0000
TZNAME:UTC
DTSTART:20250101T000000
END:STANDARD
END:VTIMEZONE
BEGIN:VEVENT
DTSTART;VALUE=DATE:20260220
DTEND;VALUE=DATE:20260221
DTSTAMP:20260420T094406
CREATED:20260203T122302Z
LAST-MODIFIED:20260203T142922Z
UID:8120-1771545600-1771631999@www.grassrootsworkspace.com
SUMMARY:National Love Your Pet Day
DESCRIPTION:February 20th is National Love Your Pet Day\, and we’re ready to celebrate the furry\, feathery\, and scaly friends who steal our hearts! 💕 \nTo celebrate we’d love for our members to share their cutest pet photos so we can create an adorable Grassroots Pets Board. \nPlease send photos and names of your pets to OSE@OXIN.CO.UK to be featured by the end of February.
URL:https://www.grassrootsworkspace.com/event/national-love-your-pet-day/
LOCATION:Grassroots Workspace\, 46 Woodstock Road\, Oxford\, OX2 6HT\, United Kingdom
ATTACH;FMTTYPE=image/png:https://www.grassrootsworkspace.com/wp-content/uploads/2026/01/National-Love-Your-Pet-Day.png
ORGANIZER;CN="Grassroots":MAILTO:enquiries@grassrootsworkspace.com
END:VEVENT
END:VCALENDAR