BEGIN:VCALENDAR
VERSION:2.0
PRODID:-//Grassroots - ECPv6.15.20//NONSGML v1.0//EN
CALSCALE:GREGORIAN
METHOD:PUBLISH
X-WR-CALNAME:Grassroots
X-ORIGINAL-URL:https://www.grassrootsworkspace.com
X-WR-CALDESC:Events for Grassroots
REFRESH-INTERVAL;VALUE=DURATION:PT1H
X-Robots-Tag:noindex
X-PUBLISHED-TTL:PT1H
BEGIN:VTIMEZONE
TZID:UTC
BEGIN:STANDARD
TZOFFSETFROM:+0000
TZOFFSETTO:+0000
TZNAME:UTC
DTSTART:20240101T000000
END:STANDARD
END:VTIMEZONE
BEGIN:VEVENT
DTSTART;TZID=UTC:20251023T173000
DTEND;TZID=UTC:20251127T193000
DTSTAMP:20260425T000513
CREATED:20251002T165027Z
LAST-MODIFIED:20251002T165027Z
UID:8001-1761240600-1764271800@www.grassrootsworkspace.com
SUMMARY:Exit Right
DESCRIPTION:Exit Right is practical\, expert-led event programme for founders and senior leadership teams of start-ups and SMEs aiming so scale and achieve a successful exit. See links to videos of previous events here. \n\nDeveloped by The Oxford Trust\, Barclays Eagle Labs and Oxford Innovation Space\, the series brings together experienced senior leaders and industry experts to share essential knowledge and insights. \n\nThis autumn\, we are running three focused masterclasses: \n\nDeveloping a winning share capital strategy (Thursday 23rd October);\nNavigating a successful property move (13th November); and\nStepping up from founder to strategic leader (27th November).\n\n\n👉 See more information and register here \n  \nFor any further questions or info\, reach out to Wendy Tindsley at wtindsley@oxin.co.uk
URL:https://www.grassrootsworkspace.com/event/exit-right/
LOCATION:Oxford Centre for Innovation\, 9 Alfred St\, Oxford OX1 4EH\, 9 Alfred Street\, Oxford\, OX1 4EH\, United Kingdom
ATTACH;FMTTYPE=image/jpeg:https://www.grassrootsworkspace.com/wp-content/uploads/2025/10/ER-2025.jpg
END:VEVENT
BEGIN:VEVENT
DTSTART;VALUE=DATE:20251103
DTEND;VALUE=DATE:20251129
DTSTAMP:20260425T000513
CREATED:20251029T115418Z
LAST-MODIFIED:20251029T115418Z
UID:8029-1762128000-1764374399@www.grassrootsworkspace.com
SUMMARY:Robin Geffen Cafe Menu
DESCRIPTION:
URL:https://www.grassrootsworkspace.com/event/robin-geffen-cafe-menu/
LOCATION:Robin Geffen Cafe\, 25 Banbury Rd\, Oxford OX2 6NN\, Oxford\, OX2 6NN\, United Kingdom
ATTACH;FMTTYPE=image/png:https://www.grassrootsworkspace.com/wp-content/uploads/2025/10/Keble-menu.png
ORGANIZER;CN="Grassroots":MAILTO:enquiries@grassrootsworkspace.com
END:VEVENT
BEGIN:VEVENT
DTSTART;TZID=UTC:20251125T090000
DTEND;TZID=UTC:20251127T170000
DTSTAMP:20260425T000513
CREATED:20251124T114632Z
LAST-MODIFIED:20251124T114632Z
UID:8045-1764061200-1764262800@www.grassrootsworkspace.com
SUMMARY:Knights - Legal Professionals
DESCRIPTION:Knights will be joining us in Grassroots on the 25\, 26\, 27 of November from 9am-5pm in Open Booth 3. \nIf you have any personal or professional legal questions\, they will be more than happy to assist. \nShould your query fall outside their immediate expertise\, they’ll gladly look into it further and point you in the right direction. \nFeel free to stop by and make the most of this opportunity!
URL:https://www.grassrootsworkspace.com/event/knights-legal-professionals/
LOCATION:Grassroots Workspace\, 46 Woodstock Road\, Oxford\, OX2 6HT\, United Kingdom
ATTACH;FMTTYPE=image/png:https://www.grassrootsworkspace.com/wp-content/uploads/2025/11/Knights-252627-November.png
END:VEVENT
BEGIN:VEVENT
DTSTART;TZID=UTC:20251125T120000
DTEND;TZID=UTC:20251125T130000
DTSTAMP:20260425T000513
CREATED:20251124T105217Z
LAST-MODIFIED:20251124T105217Z
UID:8043-1764072000-1764075600@www.grassrootsworkspace.com
SUMMARY:Cultivate Growth: How to Hack the US
DESCRIPTION:Are you thinking about expanding your business into the US? \nThis workshop is perfect for founders\, CEO’s and senior leaders ready to explore growth opportunities in one of the world’s most competitive markets. The workshop will feature\, serial entrepreneur\, Paul Essery\, Tech Business Connected. Paul has a successful track record in business development. \nSign up for this online workshop via the Eventbrite link. \nWe are looking forward to welcoming you!
URL:https://www.grassrootsworkspace.com/event/cultivate-growth-how-to-hack-the-us/
LOCATION:Online
ATTACH;FMTTYPE=application/pdf:https://www.grassrootsworkspace.com/wp-content/uploads/2025/11/How-to-Hack-the-US-Event-Poster.pdf
ORGANIZER;CN="Grassroots":MAILTO:enquiries@grassrootsworkspace.com
END:VEVENT
END:VCALENDAR