BEGIN:VCALENDAR
VERSION:2.0
PRODID:-//Grassroots - ECPv6.15.20//NONSGML v1.0//EN
CALSCALE:GREGORIAN
METHOD:PUBLISH
X-WR-CALNAME:Grassroots
X-ORIGINAL-URL:https://www.grassrootsworkspace.com
X-WR-CALDESC:Events for Grassroots
REFRESH-INTERVAL;VALUE=DURATION:PT1H
X-Robots-Tag:noindex
X-PUBLISHED-TTL:PT1H
BEGIN:VTIMEZONE
TZID:UTC
BEGIN:STANDARD
TZOFFSETFROM:+0000
TZOFFSETTO:+0000
TZNAME:UTC
DTSTART:20240101T000000
END:STANDARD
END:VTIMEZONE
BEGIN:VEVENT
DTSTART;TZID=UTC:20250925T090000
DTEND;TZID=UTC:20250925T170000
DTSTAMP:20260425T030713
CREATED:20250919T114248Z
LAST-MODIFIED:20250919T114248Z
UID:7992-1758790800-1758819600@www.grassrootsworkspace.com
SUMMARY:Strategy Masterclass for High-Tech Business Leaders
DESCRIPTION:Learn the essence of an MBA for high-tech business leaders. Intensive\, one-day masterclass to equip you with the tools to drive innovation. \nMaster strategic thinking in this one-day course \nLearn the essence of an MBA\, but specifically for high-tech business leaders. This intensive\, one-day masterclass is designed to equip you with the tools\, frameworks\, and insights needed to drive innovation\, scale rapidly\, and stay ahead in a fast-evolving market. \nLed by a seasoned trainer and dynamic public speaker with deep industry experience\, this session is packed with practical strategies and real-world applications to give your business a strategic boost and help you learn how to translate strategy into positive outcomes. \nWho should attend? \nThis masterclass is ideal for professionals in leadership and management roles within high-tech businesses\, including: \n\nCEOs\, CTOs\, and VPs\nDirectors and Team Leads\nBusiness Development Managers\nProject Managers and Strategic Planners\n\nWhat will you learn? \nGain actionable insights through a comprehensive curriculum\, including: \n\nTechnology Disruption & Convergence: How to anticipate and respond to market shifts\nSpeed as Strategy: Combining foresight with agility\nSWOT-OP Analysis: A powerful tool for first-level strategic insight\nSimplified Strategic Frameworks: Classic tools that work in the real world\nMarket Evolution & Positioning: Understand where your business fits—and where it could go\nProduct & Technology Portfolio Management\nTechnology Readiness Levels (TRLs): Assessing and advancing your innovation pipeline\nSegmentation & Niching: Targeting the right markets with precision\nValue Chain Strategy: Creating and capturing value through smart configuration\nStrategic Partnerships: Building alliances that accelerate growth\nThe 8 Essential Leadership Skills for strategic success\nFrom Strategy to Action: Turning plans into measurable outcomes\n\nWhat is included? \nThis transformative one day masterclass in Oxford will elevate your strategic thinking and empower you to lead with clarity and confidence. It includes: \n\nExpert-led training and interactive sessions\nComprehensive course materials and resources\nCertificate on completion\nNetworking opportunities with fellow high-tech leaders\nThe satisfaction of supporting a charitable cause as all profits from the masterclass will be donated to the British Heart Foundation.\n\nWho is delivering the masterclass? \nPaul Ovington \nDuring a 46-year career in high-tech engineering\, Paul clocked up 10 years as an Engineering Manager and 28 years as Project or Program Management. Paul has an MSc in IC System Design\, an MBA from a top European business school\, a Diploma in Marketing\, and is a PRINCE2 and a Managing Successful Programmes Practitioner. \nKey projects have included the development of the world’s first Smartphone\, the development of the world’s first Bluetooth chips. He has worked across several engineering disciplines\, in several industry sectors and in several countries. As founder of High-Tech Project Management\, Paul now operates as a Trainer and Coach for high-tech industries. \nIn the public speaking domain Paul became a Distinguished Toastmaster in 2011 and is a Certified World Class Speaking Coach. Described as the “bedrock” of Oxford Speakers Club\, he is an entertaining and often humorous speaker\, renowned for explaining complex concepts in a clear way. \nPrice: £180 (100% of profits go to the British Heart Foundation) \n📆 Date: Thursday 25th September 2025 \n🕘 Time: 9am-5pm \n📍 Location: Grassroots Workspace
URL:https://www.grassrootsworkspace.com/event/strategy-masterclass-for-high-tech-business-leaders/
LOCATION:Grassroots Workspace\, 46 Woodstock Road\, Oxford\, OX2 6HT\, United Kingdom
ATTACH;FMTTYPE=image/jpeg:https://www.grassrootsworkspace.com/wp-content/uploads/2025/09/Strategy-Masterclass-image.jpg
END:VEVENT
BEGIN:VEVENT
DTSTART;TZID=UTC:20250925T120000
DTEND;TZID=UTC:20250925T140000
DTSTAMP:20260425T030713
CREATED:20250919T111301Z
LAST-MODIFIED:20250919T111301Z
UID:7990-1758801600-1758808800@www.grassrootsworkspace.com
SUMMARY:Macmillan Coffee Morning
DESCRIPTION:Join us at Grassroots on 25th September for a Macmillan Coffee Morning! ☕🍰\nCome along for a hot drink\, sweet treats\, and great company — all while raising money for Macmillan Cancer Support. 💚 \n \n💚 What Does Macmillan Do?\n\n\nPractical Support \n\n\nOffers financial guidance\, including help with benefits\, grants\, and managing the cost of cancer. \n\n\nProvides practical help with day-to-day challenges such as transport\, housing\, and work-related concerns. \n\n\n\n\nEmotional Support \n\n\nOffers counselling and someone to talk to via their support line and community services. \n\n\nTrained Macmillan professionals offer one-on-one support to those dealing with the emotional impact of a diagnosis. \n\n\n\n\nMedical & Nursing Care \n\n\nFunds and supports Macmillan Nurses\, who specialize in cancer care and provide expert guidance and comfort to patients and families. \n\n\nOffers support in hospitals and communities across the UK. \n\n\n\n\nInformation & Advocacy \n\n\nProvides clear\, reliable information about different types of cancer\, treatment options\, and coping strategies. \n\nAdvocates for better cancer care policies and patient rights.\n\n\n\n❓ Want to get involved?\n🍪 Bring along any baked goods to donate and sell💷 Make a donation on the day — every penny counts! \n📆 Date: Thursday 25th September 2025 \n🕛 Time: 12-2pm \n📍 Location: Grassroots Kitchen \nHope to see you all there! 😊
URL:https://www.grassrootsworkspace.com/event/macmillan-coffee-morning-2/
LOCATION:Grassroots Workspace\, 46 Woodstock Road\, Oxford\, OX2 6HT\, United Kingdom
ATTACH;FMTTYPE=image/png:https://www.grassrootsworkspace.com/wp-content/uploads/2023/06/Macmillan-coffee-morning-poster-web.png
END:VEVENT
END:VCALENDAR