BEGIN:VCALENDAR
VERSION:2.0
PRODID:-//Grassroots - ECPv6.15.20//NONSGML v1.0//EN
CALSCALE:GREGORIAN
METHOD:PUBLISH
X-WR-CALNAME:Grassroots
X-ORIGINAL-URL:https://www.grassrootsworkspace.com
X-WR-CALDESC:Events for Grassroots
REFRESH-INTERVAL;VALUE=DURATION:PT1H
X-Robots-Tag:noindex
X-PUBLISHED-TTL:PT1H
BEGIN:VTIMEZONE
TZID:UTC
BEGIN:STANDARD
TZOFFSETFROM:+0000
TZOFFSETTO:+0000
TZNAME:UTC
DTSTART:20240101T000000
END:STANDARD
END:VTIMEZONE
BEGIN:VEVENT
DTSTART;TZID=UTC:20250311T090000
DTEND;TZID=UTC:20250311T170000
DTSTAMP:20260425T112750
CREATED:20250227T133226Z
LAST-MODIFIED:20250227T133226Z
UID:7907-1741683600-1741712400@www.grassrootsworkspace.com
SUMMARY:Free Coaching Drop-in with Claudia Filsinger\, Moving Maps Ltd. (Brenner Room)
DESCRIPTION:Claudia Filsinger\, executive coach and founder of Moving Maps Ltd. will support the Grassroots and Oxford Trust communities by providing a thinking space and being a sounding board with no agenda for any of your work challenges or growth opportunities. \nCoaching supports you in expanding your thinking through deep listening\, questions\, mirroring back\, exploring and challenging limiting beliefs\, assumptions and potential blind spots. Coaches don’t give advice but help you to uncover the solutions you might not know yet that you know already! \nYou can use the coaching to reflect on current or future challenges\, but also to learn from past events. Common coaching topics you could bring: \n\nGenerating and evaluating options for problem-solving or decision making\n\n\nTransitioning into new roles\n\n\nIncreasing personal effectiveness and communication\n\n\nPeople management & leadership\n\n\nManaging the “inner critical voice” and imposter syndrome\n\n\nPreparing for challenging or high-stakes conversations or meetings\n\n\nManaging conflict\n\n\nSupporting the people-side of change before or after restructuring or M&A\n\n\nStakeholder management\n\nThis free “Coaching drop-in” is open to all companies within the Grassroots and Oxford Trust Community. No booking is required and it will be held in Grassroots. Drop-in on the day in person or email claudia.filsinger@moving-maps.com to receive a Zoom link for an online meeting. Coaching drop-ins are usually 30-45mins long and coachees are often surprised how much can be achieved within a short\, one-off coaching conversation! \nAbout Claudia Filsinger\, Executive Coach and Founder of Moving Maps Ltd. \nClaudia is a highly versatile and experienced coach and facilitator\, having worked with clients in a wide range of companies\, industries\, geographies\, functions and seniority for 15 years. She founded Moving Maps LTD. to make systemic and visual self-coaching tools accessible to her clients. Her corporate background is in international sales and learning & development roles in the IT/tech and media industries. She has also lectured in business\, management and coaching at Oxford Brookes Business School. \n  \n  \n 
URL:https://www.grassrootsworkspace.com/event/free-coaching-drop-in-with-claudia-filsinger-moving-maps-ltd-brenner-room/
LOCATION:Grassroots Workspace\, 46 Woodstock Road\, Oxford\, OX2 6HT\, United Kingdom
ATTACH;FMTTYPE=image/png:https://www.grassrootsworkspace.com/wp-content/uploads/2024/07/Untitled-design-e1741960032385.png
ORGANIZER;CN="Grassroots":MAILTO:enquiries@grassrootsworkspace.com
END:VEVENT
BEGIN:VEVENT
DTSTART;TZID=UTC:20250311T090000
DTEND;TZID=UTC:20250311T170000
DTSTAMP:20260425T112750
CREATED:20250314T151920Z
LAST-MODIFIED:20250314T151920Z
UID:7906-1741683600-1741712400@www.grassrootsworkspace.com
SUMMARY:Free Coaching Drop-in with Claudia Filsinger\, Moving Maps Ltd.
DESCRIPTION:Claudia Filsinger\, executive coach and founder of Moving Maps Ltd. will support the Grassroots and Oxford Trust communities by providing a thinking space and being a sounding board with no agenda for any of your work challenges or growth opportunities. \nCoaching supports you in expanding your thinking through deep listening\, questions\, mirroring back\, exploring and challenging limiting beliefs\, assumptions and potential blind spots. Coaches don’t give advice but help you to uncover the solutions you might not know yet that you know already! \nYou can use the coaching to reflect on current or future challenges\, but also to learn from past events. Common coaching topics you could bring: \n\nGenerating and evaluating options for problem-solving or decision making\n\n\nTransitioning into new roles\n\n\nIncreasing personal effectiveness and communication\n\n\nPeople management & leadership\n\n\nManaging the “inner critical voice” and imposter syndrome\n\n\nPreparing for challenging or high-stakes conversations or meetings\n\n\nManaging conflict\n\n\nSupporting the people-side of change before or after restructuring or M&A\n\n\nStakeholder management\n\n  \nThis free “Coaching drop-in” is open to all companies within the Grassroots and Oxford Trust Community. No booking is required and it will be held in Grassroots. Drop-in on the day in person or email claudia.filsinger@moving-maps.com to receive a Zoom link for an online meeting. Coaching drop-ins are usually 30-45mins long and coachees are often surprised how much can be achieved within a short\, one-off coaching conversation! \n  \nAbout Claudia Filsinger\, Executive Coach and Founder of Moving Maps Ltd. \n  \n \n  \nClaudia is a highly versatile and experienced coach and facilitator\, having worked with clients in a wide range of companies\, industries\, geographies\, functions and seniority for 15 years. She founded Moving Maps LTD. to make systemic and visual self-coaching tools accessible to her clients. Her corporate background is in international sales and learning & development roles in the IT/tech and media industries. She has also lectured in business\, management and coaching at Oxford Brookes Business School.
URL:https://www.grassrootsworkspace.com/event/free-coaching-drop-in-with-claudia-filsinger-moving-maps-ltd-6/
LOCATION:Grassroots Workspace\, 46 Woodstock Road\, Oxford\, OX2 6HT\, United Kingdom
ATTACH;FMTTYPE=image/png:https://www.grassrootsworkspace.com/wp-content/uploads/2024/07/Untitled-design-e1741960032385.png
ORGANIZER;CN="Grassroots":MAILTO:enquiries@grassrootsworkspace.com
END:VEVENT
END:VCALENDAR