BEGIN:VCALENDAR
VERSION:2.0
PRODID:-//Grassroots - ECPv6.15.20//NONSGML v1.0//EN
CALSCALE:GREGORIAN
METHOD:PUBLISH
X-WR-CALNAME:Grassroots
X-ORIGINAL-URL:https://www.grassrootsworkspace.com
X-WR-CALDESC:Events for Grassroots
REFRESH-INTERVAL;VALUE=DURATION:PT1H
X-Robots-Tag:noindex
X-PUBLISHED-TTL:PT1H
BEGIN:VTIMEZONE
TZID:UTC
BEGIN:STANDARD
TZOFFSETFROM:+0000
TZOFFSETTO:+0000
TZNAME:UTC
DTSTART:20240101T000000
END:STANDARD
END:VTIMEZONE
BEGIN:VEVENT
DTSTART;TZID=UTC:20250305T090000
DTEND;TZID=UTC:20250305T170000
DTSTAMP:20260425T112750
CREATED:20250227T160853Z
LAST-MODIFIED:20250227T160853Z
UID:7921-1741165200-1741194000@www.grassrootsworkspace.com
SUMMARY:Taylor Wessing Clinic
DESCRIPTION:Join Taylor Wessing at Grassroots for an insightful clinic! \nJames Horman from Taylor Wessing is a seasoned partner and corporate lawyer with extensive expertise in complex cross-border business transactions. With a focus on M&A\, IPOs\, joint ventures\, structured equity investments\, venture capital\, and growth capital financing rounds\, James provides comprehensive advice throughout the business lifecycle. His clients include founders\, growth companies\, VC investors\, institutions\, and listed companies across both the LSE and Nasdaq\, with a strong emphasis on the technology and structured investment sectors. Having started his journey at Taylor Wessing in 2010 as a trainee\, James brings a wealth of experience to this session. \nLet us know at the Reception if you feel this applies to you – we’ll get you in touch with James!
URL:https://www.grassrootsworkspace.com/event/taylor-wessing-clinic/
LOCATION:Grassroots Workspace\, 46 Woodstock Road\, Oxford\, OX2 6HT\, United Kingdom
ATTACH;FMTTYPE=image/png:https://www.grassrootsworkspace.com/wp-content/uploads/2025/02/TWLogotype_Green_300dpi.png
END:VEVENT
END:VCALENDAR