BEGIN:VCALENDAR
VERSION:2.0
PRODID:-//Grassroots - ECPv6.15.20//NONSGML v1.0//EN
CALSCALE:GREGORIAN
METHOD:PUBLISH
X-ORIGINAL-URL:https://www.grassrootsworkspace.com
X-WR-CALDESC:Events for Grassroots
REFRESH-INTERVAL;VALUE=DURATION:PT1H
X-Robots-Tag:noindex
X-PUBLISHED-TTL:PT1H
BEGIN:VTIMEZONE
TZID:UTC
BEGIN:STANDARD
TZOFFSETFROM:+0000
TZOFFSETTO:+0000
TZNAME:UTC
DTSTART:20240101T000000
END:STANDARD
END:VTIMEZONE
BEGIN:VEVENT
DTSTART;TZID=UTC:20250304T080000
DTEND;TZID=UTC:20250304T170000
DTSTAMP:20260425T112826
CREATED:20250207T163206Z
LAST-MODIFIED:20250207T163206Z
UID:7900-1741075200-1741107600@www.grassrootsworkspace.com
SUMMARY:Shrove Tuesday/Pancake Day 2025
DESCRIPTION:When? 4th of March\nWhere ? G_R Kitchen\nTime ? 9am-5pm\n  \nWhat is Shrove Tuesday/Pancake Day?\nShrove Tuesday\, often referred to as Pancake Day\, is a Christian tradition that marks the day before the start of Lent. It’s a day of preparation and feasting before the 40-day period of fasting and reflection leading up to Easter. On this day\, many people indulge in pancakes as a way to use up rich and indulgent ingredients like eggs\, milk\, and sugar before the fasting period begins. \nWhen is Shrove Tuesday/Pancake Day?\nShrove Tuesday falls on the Tuesday before Ash Wednesday\, which varies from year to year. In 2025\, Shrove Tuesday will be celebrated on March 4th. The date changes each year based on the date of Easter\, which is determined by the lunar calendar. \nHow to Celebrate Shrove Tuesday/Pancake Day\nThere are various ways to celebrate Shrove Tuesday/Pancake Day\, but the most popular tradition is\, of course\, making and enjoying pancakes. Here’s how you can celebrate this delicious holiday: \n\nPancake Breakfast: Start your day with a hearty pancake breakfast. You can make traditional thin crepe-style pancakes or fluffy American-style pancakes\, depending on your preference.\nPancake Toppings: Get creative with your pancake toppings. Classic choices include maple syrup\, fresh fruit\, whipped cream\, and chocolate chips. Some also enjoy savory pancakes with ingredients like cheese and bacon.\nPancake Parties: Host a pancake party or potluck with friends and family. Everyone can bring their favorite pancake toppings\, and you can have a pancake cook-off to see who makes the best stack!\nCharity Pancake Races: In some regions\, you might find charity pancake races where participants race while flipping pancakes in a frying pan. It’s a fun and quirky tradition!\nAttend Church Services: Many churches hold special services and pancake breakfasts on Shrove Tuesday as a way for the community to come together before the solemnity of Lent.\n\nHistory of Shrove Tuesday/Pancake Day\nThe name “Shrove Tuesday” comes from the word “shrive\,” which means to confess one’s sins and receive absolution from a priest. It’s a day for Christians to prepare their hearts and souls for the penitential season of Lent. The tradition of making pancakes on this day is believed to have originated in medieval England as a way to use up ingredients like eggs\, milk\, and sugar before Lenten fasting began. \nToday\, Shrove Tuesday has become a secular celebration enjoyed by people of all backgrounds\, with a primary focus on the joy of pancake indulgence. \nShrove Tuesday\, known as Pancake Day in many parts of the world\, is a delightful occasion to gather with loved ones\, savour delicious pancakes\, and embrace the spirit of celebration before the solemnity of Lent. Whether you’re flipping pancakes in a race or savouring a stack at home\, Shrove Tuesday is a day to indulge in this tasty tradition. \n  \nIf all this sounds tasty enough\, join us on the day in the Grassroots kitchen where we will have plenty of pancakes for all members \, with loads of toppings and more! \n  \nSee you all there 🙂 \n  \nG_R team
URL:https://www.grassrootsworkspace.com/event/shrove-tuesday-pancake-day-2025/
CATEGORIES:Members Only
ATTACH;FMTTYPE=image/png:https://www.grassrootsworkspace.com/wp-content/uploads/2025/02/Happy-Pancake-Day-Post.png
END:VEVENT
END:VCALENDAR