BEGIN:VCALENDAR
VERSION:2.0
PRODID:-//Grassroots - ECPv6.15.20//NONSGML v1.0//EN
CALSCALE:GREGORIAN
METHOD:PUBLISH
X-ORIGINAL-URL:https://www.grassrootsworkspace.com
X-WR-CALDESC:Events for Grassroots
REFRESH-INTERVAL;VALUE=DURATION:PT1H
X-Robots-Tag:noindex
X-PUBLISHED-TTL:PT1H
BEGIN:VTIMEZONE
TZID:UTC
BEGIN:STANDARD
TZOFFSETFROM:+0000
TZOFFSETTO:+0000
TZNAME:UTC
DTSTART:20230101T000000
END:STANDARD
END:VTIMEZONE
BEGIN:VEVENT
DTSTART;VALUE=DATE:20241205
DTEND;VALUE=DATE:20241206
DTSTAMP:20260425T154450
CREATED:20241024T142058Z
LAST-MODIFIED:20241024T142058Z
UID:7832-1733356800-1733443199@www.grassrootsworkspace.com
SUMMARY:Knights - Professionals On Hand (Real Estate)
DESCRIPTION:Knights is a recent joiner to Grassroots and will be supporting the entrepreneurial community with professionals on hand to address any of your legal challenges. \nKnights is a legal and professional services business with 1\,000+ professionals delivering high-quality services to over 10\,000 business clients from 23 office locations across the UK. \nKnights will have members of the team here in Grassroots throughout November and December who specialize in: \n\nAsset Management\nProperty Litigation\nDispute Resolution\nProperty Management\nDevelopment & Consumer Law\nRegulatory Law\nCommercial Law\nEmployment Law\nDispute Resolution\nImmigration Law
URL:https://www.grassrootsworkspace.com/event/knights-professionals-on-hand-real-estate/
LOCATION:Grassroots Workspace\, 46 Woodstock Road\, Oxford\, OX2 6HT\, United Kingdom
ATTACH;FMTTYPE=image/png:https://www.grassrootsworkspace.com/wp-content/uploads/2024/07/Untitled-design-1.png
END:VEVENT
BEGIN:VEVENT
DTSTART;TZID=UTC:20241205T170000
DTEND;TZID=UTC:20241205T180000
DTSTAMP:20260425T154450
CREATED:20241203T120326Z
LAST-MODIFIED:20241203T131756Z
UID:7857-1733418000-1733421600@www.grassrootsworkspace.com
SUMMARY:Adapt. Improvise. Grow. Your Powerful Playbook for Workplace Excellence.
DESCRIPTION:Adapt. Improvise. Grow. \nYour Powerful Playbook for Workplace Excellence. \nThurs 5th Dec | 5-6pm | Grassroots Workspace\, 46 Woodstock Road | FREE \n  \nA one-hour demo & networking event where you’ll have the opportunity to join in our engaging skill-building activities that will help grow your business. \n  \nFor leaders and teams\, here’s something game-changing: learn transformational improv techniques. It’s a secret weapon for building a more adaptable\, creative and connected workplace that you can apply in work immediately. \n  \nWhen Google & Disney wanted innovation & storytelling workshops\, they came to us. \n  \nNow you too can learn the skills needed to navigate uncertainty + co-create with ease. Crack how to make meetings matter + re-energise your time together. \n  \nWe love that moment when the penny drops and our clients see the value of the LIFEPASS improvisation principles. \n  \nWe start with refreshments at 5pm in the Grassroots Workspace at 46 Woodstock Road. Free pizza included. Places are limited to only 20 spots\, so sign up now to secure yours and see for yourself. \n https://impro.org.uk/services-products/training/oxford-demo/ \n\n\nDetails \nDate: \nThursday 5th December \nTime: \n5pm-6pm \nCost: \nFree \nEvent Category: \nMembers Only \nEvent Tags: \nGrassroots \nOrganiser \nPaul Jackson Associates \nPhone \n+44 (0) 7973 953 586 \nEmail \ned@impro.org.uk \nView Organiser Website \nVenue \nGrassroots Workspace
URL:https://www.grassrootsworkspace.com/event/adapt-improvise-grow-your-powerful-playbook-for-workplace-excellence/
ATTACH;FMTTYPE=image/jpeg:https://www.grassrootsworkspace.com/wp-content/uploads/2024/12/Improv-Demo-image-for-Social-Media.jpg
END:VEVENT
END:VCALENDAR