BEGIN:VCALENDAR
VERSION:2.0
PRODID:-//Grassroots - ECPv6.15.20//NONSGML v1.0//EN
CALSCALE:GREGORIAN
METHOD:PUBLISH
X-WR-CALNAME:Grassroots
X-ORIGINAL-URL:https://www.grassrootsworkspace.com
X-WR-CALDESC:Events for Grassroots
REFRESH-INTERVAL;VALUE=DURATION:PT1H
X-Robots-Tag:noindex
X-PUBLISHED-TTL:PT1H
BEGIN:VTIMEZONE
TZID:UTC
BEGIN:STANDARD
TZOFFSETFROM:+0000
TZOFFSETTO:+0000
TZNAME:UTC
DTSTART:20230101T000000
END:STANDARD
END:VTIMEZONE
BEGIN:VEVENT
DTSTART;TZID=UTC:20241128T093000
DTEND;TZID=UTC:20241128T110000
DTSTAMP:20260425T154354
CREATED:20241119T141750Z
LAST-MODIFIED:20241119T142031Z
UID:7845-1732786200-1732791600@www.grassrootsworkspace.com
SUMMARY:Developing Intelligent Solutions with AI and Unlocking GPT’s Power
DESCRIPTION:Thursday 28th of November from 9:30am – 11am\, Microsoft Teams \nA new initiative designed to bring industry-leading insights to local businesses has officially launched. The Oxford Innovation Sessions\, a series of six exclusive talks\, will feature experts from top companies including Microsoft\, Barclays\, and Oxford Innovation Finance\, covering cutting-edge topics in Artificial Intelligence\, Business Development\, Marketing\, and more. \nThe Oxford Innovation Sessions aim to address some of the most pressing challenges faced by businesses today\, from securing financing and leveraging new technologies\, to navigating the evolving digital marketing landscape. \nThe Oxford Innovation Sessions will run from now until March 2025\, with events exclusively available to Oxford Innovation Space customers. \nEach session will feature a 30-minute talk from a leading expert followed by interactive Q&A\, all streamed live online. The first event\, “Developing Intelligent Solutions with AI and Unlocking GPT’s Power”\, will be led by Michael Gillett & Paul Veck from Microsoft on Thursday.
URL:https://www.grassrootsworkspace.com/event/developing-intelligent-solutions-with-ai-and-unlocking-gpts-power/
LOCATION:Online
CATEGORIES:Members Only
ATTACH;FMTTYPE=image/png:https://www.grassrootsworkspace.com/wp-content/uploads/2024/11/Oxford-innovation-event.png
END:VEVENT
BEGIN:VEVENT
DTSTART;TZID=UTC:20241128T100000
DTEND;TZID=UTC:20241128T140000
DTSTAMP:20260425T154354
CREATED:20241021T151316Z
LAST-MODIFIED:20241030T125848Z
UID:7811-1732788000-1732802400@www.grassrootsworkspace.com
SUMMARY:Investor Showcase - The Hill
DESCRIPTION:Are you looking to gain investment in your digital health innovation or business? You might be interested in pitching to investors as part of our upcoming Investor Showcase event. \nTaking place this November in Oxford City Centre\, The Hill are offering companies with digital innovations the opportunity to pitch to their investor panel on the 28 November 2024. \nTheHill’s mission is to help\, support and scale innovative technologies which can improve on patient care and reduce the pressure on frontline staff. \nRegister here and find more details here: https://www.thehilloxford.org/events/investor-showcase-2/
URL:https://www.grassrootsworkspace.com/event/investor-showcase/
LOCATION:Grassroots Workspace\, 46 Woodstock Road\, Oxford\, OX2 6HT\, United Kingdom
ATTACH;FMTTYPE=image/png:https://www.grassrootsworkspace.com/wp-content/uploads/2024/04/the-hill-event-e1729523692300.png
END:VEVENT
END:VCALENDAR