BEGIN:VCALENDAR
VERSION:2.0
PRODID:-//Grassroots - ECPv6.15.20//NONSGML v1.0//EN
CALSCALE:GREGORIAN
METHOD:PUBLISH
X-ORIGINAL-URL:https://www.grassrootsworkspace.com
X-WR-CALDESC:Events for Grassroots
REFRESH-INTERVAL;VALUE=DURATION:PT1H
X-Robots-Tag:noindex
X-PUBLISHED-TTL:PT1H
BEGIN:VTIMEZONE
TZID:UTC
BEGIN:STANDARD
TZOFFSETFROM:+0000
TZOFFSETTO:+0000
TZNAME:UTC
DTSTART:20230101T000000
END:STANDARD
END:VTIMEZONE
BEGIN:VEVENT
DTSTART;VALUE=DATE:20241121
DTEND;VALUE=DATE:20241122
DTSTAMP:20260425T171707
CREATED:20241024T140652Z
LAST-MODIFIED:20241107T144314Z
UID:7826-1732147200-1732233599@www.grassrootsworkspace.com
SUMMARY:Knights - Professionals On Hand (Employment Law)
DESCRIPTION:Knights is a recent joiner to Grassroots and will be supporting the entrepreneurial community with professionals on hand to address any of your legal challenges. \nKnights is a legal and professional services business with 1\,000+ professionals delivering high-quality services to over 10\,000 business clients from 23 office locations across the UK. \nKnights will have members of the team here in Grassroots throughout November and December who specialize in: \n\nAsset Management\nProperty Litigation\nDispute Resolution\nProperty Management\nDevelopment & Consumer Law\nRegulatory Law\nCommercial Law\nEmployment Law\nDispute Resolution\nImmigration Law
URL:https://www.grassrootsworkspace.com/event/knights-professionals-on-hand-immigration-law/
LOCATION:Grassroots Workspace\, 46 Woodstock Road\, Oxford\, OX2 6HT\, United Kingdom
ATTACH;FMTTYPE=image/png:https://www.grassrootsworkspace.com/wp-content/uploads/2024/07/Untitled-design-1.png
END:VEVENT
BEGIN:VEVENT
DTSTART;TZID=UTC:20241121T170000
DTEND;TZID=UTC:20241121T200000
DTSTAMP:20260425T171707
CREATED:20241021T150305Z
LAST-MODIFIED:20241022T083432Z
UID:7807-1732208400-1732219200@www.grassrootsworkspace.com
SUMMARY:Activating Networks for Success: Leveraging Connections in Life Sciences and BioPharma
DESCRIPTION:Conexen are an independent group of healthcare executives across various disciplines and corporate cultures that value relationship and community building at all stages of people’s careers. They are driven by radical generosity\, which means that their main purpose is to proactively share their collective pool of resources\, where people with common backgrounds and interests can exchange information\, trends\, and innovative ideas to collaborate and give back in a relaxed setting. \nThis panel will inspire you to shift from transactional networking to creating real\, transformative change in biotech and healthcare. \nTickets can be found here – https://conexen.net/conexen-events/conexen-oxford-november/
URL:https://www.grassrootsworkspace.com/event/activating-networks-for-success-leveraging-connections-in-life-sciences-and-biopharma/
LOCATION:Grassroots Workspace\, 46 Woodstock Road\, Oxford\, OX2 6HT\, United Kingdom
ATTACH;FMTTYPE=image/webp:https://www.grassrootsworkspace.com/wp-content/uploads/2024/10/Conexen_Final-Logo-2024-768x245.png.webp
END:VEVENT
END:VCALENDAR