BEGIN:VCALENDAR
VERSION:2.0
PRODID:-//Grassroots - ECPv6.15.20//NONSGML v1.0//EN
CALSCALE:GREGORIAN
METHOD:PUBLISH
X-ORIGINAL-URL:https://www.grassrootsworkspace.com
X-WR-CALDESC:Events for Grassroots
REFRESH-INTERVAL;VALUE=DURATION:PT1H
X-Robots-Tag:noindex
X-PUBLISHED-TTL:PT1H
BEGIN:VTIMEZONE
TZID:UTC
BEGIN:STANDARD
TZOFFSETFROM:+0000
TZOFFSETTO:+0000
TZNAME:UTC
DTSTART:20230101T000000
END:STANDARD
END:VTIMEZONE
BEGIN:VEVENT
DTSTART;VALUE=DATE:20241119
DTEND;VALUE=DATE:20241120
DTSTAMP:20260425T171149
CREATED:20241024T140502Z
LAST-MODIFIED:20241024T140502Z
UID:7825-1731974400-1732060799@www.grassrootsworkspace.com
SUMMARY:Knights - Professionals On Hand (Employment Law)
DESCRIPTION:Knights is a recent joiner to Grassroots and will be supporting the entrepreneurial community with professionals on hand to address any of your legal challenges. \nKnights is a legal and professional services business with 1\,000+ professionals delivering high-quality services to over 10\,000 business clients from 23 office locations across the UK. \nKnights will have members of the team here in Grassroots throughout November and December who specialize in: \n\nAsset Management\nProperty Litigation\nDispute Resolution\nProperty Management\nDevelopment & Consumer Law\nRegulatory Law\nCommercial Law\nEmployment Law\nDispute Resolution\nImmigration Law
URL:https://www.grassrootsworkspace.com/event/knights-professionals-on-hand-employment-law/
LOCATION:Grassroots Workspace\, 46 Woodstock Road\, Oxford\, OX2 6HT\, United Kingdom
ATTACH;FMTTYPE=image/png:https://www.grassrootsworkspace.com/wp-content/uploads/2024/07/Untitled-design-1.png
END:VEVENT
BEGIN:VEVENT
DTSTART;TZID=UTC:20241119T121500
DTEND;TZID=UTC:20241119T141500
DTSTAMP:20260425T171149
CREATED:20241021T141508Z
LAST-MODIFIED:20241022T084151Z
UID:7791-1732018500-1732025700@www.grassrootsworkspace.com
SUMMARY:The Innovation Roundtable - UK Property Forums
DESCRIPTION:THE INNOVATION ROUNDTABLE – OXFORDSHIRE\nHOME OF THE UNICORN? \nWe are pleased to invite Grassroots members to a Round Table Lunch which will explore with a select group of invitees how Oxfordshire can encourage fast-growing companies to locate in the region & what these companies will require in their journey to becoming ‘Unicorn’ companies. Against the backdrop of the Government’s Budget\, this will draw upon the many issues needed to encourage future growth in Oxfordshire. \nRVSP: info@ukpropertyforums.com
URL:https://www.grassrootsworkspace.com/event/the-innovation-roundtable-uk-property-forums/
LOCATION:Grassroots Workspace\, 46 Woodstock Road\, Oxford\, OX2 6HT\, United Kingdom
ATTACH;FMTTYPE=image/jpeg:https://www.grassrootsworkspace.com/wp-content/uploads/2024/10/UK-property-forums-1.jpg
END:VEVENT
END:VCALENDAR