BEGIN:VCALENDAR
VERSION:2.0
PRODID:-//Grassroots - ECPv6.15.20//NONSGML v1.0//EN
CALSCALE:GREGORIAN
METHOD:PUBLISH
X-WR-CALNAME:Grassroots
X-ORIGINAL-URL:https://www.grassrootsworkspace.com
X-WR-CALDESC:Events for Grassroots
REFRESH-INTERVAL;VALUE=DURATION:PT1H
X-Robots-Tag:noindex
X-PUBLISHED-TTL:PT1H
BEGIN:VTIMEZONE
TZID:UTC
BEGIN:STANDARD
TZOFFSETFROM:+0000
TZOFFSETTO:+0000
TZNAME:UTC
DTSTART:20230101T000000
END:STANDARD
END:VTIMEZONE
BEGIN:VEVENT
DTSTART;TZID=UTC:20241001T090000
DTEND;TZID=UTC:20241001T170000
DTSTAMP:20260425T183301
CREATED:20240902T144329Z
LAST-MODIFIED:20240902T150320Z
UID:7782-1727773200-1727802000@www.grassrootsworkspace.com
SUMMARY:Knights - Professionals On Hand (Regulatory Law)
DESCRIPTION:Knights is a recent joiner to Grassroots and will be supporting the entrepreneurial community with professionals on hand to address any of your legal challenges. \nKnights is a legal and professional services business with 1\,000+ professionals delivering high-quality services to over 10\,000 business clients from 23 office locations across the UK. \nKnights will have members of the team here in Grassroots throughout September and October who specialize in: \n\nAsset Management\nProperty Litigation\nDispute Resolution\nProperty Management\nDevelopment & Consumer Law\nRegulatory Law\nCommercial Law\nEmployment Law\nDispute Resolution\nImmigration Law\n\n 
URL:https://www.grassrootsworkspace.com/event/knights-professionals-on-hand-regulatory-law-4/
LOCATION:Grassroots Workspace\, 46 Woodstock Road\, Oxford\, OX2 6HT\, United Kingdom
ATTACH;FMTTYPE=image/png:https://www.grassrootsworkspace.com/wp-content/uploads/2024/07/Untitled-design-1.png
END:VEVENT
END:VCALENDAR