BEGIN:VCALENDAR
VERSION:2.0
PRODID:-//Grassroots - ECPv6.15.20//NONSGML v1.0//EN
CALSCALE:GREGORIAN
METHOD:PUBLISH
X-ORIGINAL-URL:https://www.grassrootsworkspace.com
X-WR-CALDESC:Events for Grassroots
REFRESH-INTERVAL;VALUE=DURATION:PT1H
X-Robots-Tag:noindex
X-PUBLISHED-TTL:PT1H
BEGIN:VTIMEZONE
TZID:UTC
BEGIN:STANDARD
TZOFFSETFROM:+0000
TZOFFSETTO:+0000
TZNAME:UTC
DTSTART:20230101T000000
END:STANDARD
END:VTIMEZONE
BEGIN:VEVENT
DTSTART;TZID=UTC:20240918T150000
DTEND;TZID=UTC:20240918T170000
DTSTAMP:20260425T205707
CREATED:20240911T135227Z
LAST-MODIFIED:20240911T135227Z
UID:7761-1726671600-1726678800@www.grassrootsworkspace.com
SUMMARY:The Re-Opening of Grassroots and National Burger Day!
DESCRIPTION:We are excited to host a Burger Day on 18th September at 3 PM in Grassroots for all members to celebrate its re-opening. This is a perfect opportunity to network and introduce yourselves to the rest of the Grassroots community! \nAdditionally\, we will have two members from Barclays joining us! \nWe look forward to seeing you all there!
URL:https://www.grassrootsworkspace.com/event/the-re-opening-of-grassroots-and-national-burger-day/
LOCATION:Grassroots Workspace\, 46 Woodstock Road\, Oxford\, OX2 6HT\, United Kingdom
ATTACH;FMTTYPE=image/jpeg:https://www.grassrootsworkspace.com/wp-content/uploads/2024/05/Capture.jpg
ORGANIZER;CN="Grassroots":MAILTO:enquiries@grassrootsworkspace.com
END:VEVENT
BEGIN:VEVENT
DTSTART;TZID=UTC:20241004T213000
DTEND;TZID=UTC:20241004T213000
DTSTAMP:20260425T205707
CREATED:20240911T142524Z
LAST-MODIFIED:20240911T142524Z
UID:7792-1728077400-1728077400@www.grassrootsworkspace.com
SUMMARY:The Breakfast Club
DESCRIPTION:Join us at the Grassroots kitchen for a bit of breakfast and networking!
URL:https://www.grassrootsworkspace.com/event/the-breakfast-club/
LOCATION:Grassroots Workspace\, 46 Woodstock Road\, Oxford\, OX2 6HT\, United Kingdom
ATTACH;FMTTYPE=image/jpeg:https://www.grassrootsworkspace.com/wp-content/uploads/2024/05/Capture.jpg
ORGANIZER;CN="Grassroots":MAILTO:enquiries@grassrootsworkspace.com
END:VEVENT
END:VCALENDAR