BEGIN:VCALENDAR
VERSION:2.0
PRODID:-//Grassroots - ECPv6.15.20//NONSGML v1.0//EN
CALSCALE:GREGORIAN
METHOD:PUBLISH
X-WR-CALNAME:Grassroots
X-ORIGINAL-URL:https://www.grassrootsworkspace.com
X-WR-CALDESC:Events for Grassroots
REFRESH-INTERVAL;VALUE=DURATION:PT1H
X-Robots-Tag:noindex
X-PUBLISHED-TTL:PT1H
BEGIN:VTIMEZONE
TZID:UTC
BEGIN:STANDARD
TZOFFSETFROM:+0000
TZOFFSETTO:+0000
TZNAME:UTC
DTSTART:20230101T000000
END:STANDARD
END:VTIMEZONE
BEGIN:VEVENT
DTSTART;TZID=UTC:20240618T110000
DTEND;TZID=UTC:20240718T113000
DTSTAMP:20260425T234735
CREATED:20240618T111604Z
LAST-MODIFIED:20240618T111731Z
UID:7727-1718708400-1721302200@www.grassrootsworkspace.com
SUMMARY:Unlock Predictive AI With Kumo In Snowflake
DESCRIPTION:Join Kumo AI and Snowflake for an exclusive webinar! Kumo as a Snowflake Native App allows data science teams to immediately join the revolution of predictive AI. \nIn this 30 minute webinar\, they will explore how Kumo AI works in Snowflake to provide data scientists unparalleled access to scalable and flexible predictive AI capabilities natively in Snowflake. \nKey Highlights include: \n\n\n\nEfficient Model Building: Discover how Kumo’s predictive AI solution accelerates model development by learning across all Snowflake tables\, generating immediately actionable predictions for personalized recommendations and next best actions.\nEnhanced Accuracy: Learn how Kumo’s Snowflake Native App unlocks the full potential of relational data\, resulting in up to 75% more accurate predictions\, enabling data science teams to drive measurable business outcomes.\nSeamless Integration: Learn more about Kumo as a Snowflake Native App and how Kumo works with Snowflake\, allowing for quick deployment and utilization of Kumo natively Snowflake without data movement.\nKey Use Cases & Future Innovations with GenAI: Understand the sales\, marketing\, and other use cases that can jumpstart your use of Kumo in Snowflake and get insights into Kumo’s integration with Snowflake Cortex\, unlocking unstructured data to further enhance prediction accuracy and drive actionable insights.\n\n\n\nDon’t miss this opportunity to learn how to build highly accurate predictive AI models inside Snowflake. Register here Unlock Predictive AI with Kumo in Snowflake
URL:https://www.grassrootsworkspace.com/event/unlock-predictive-ai-with-kumo-in-snowflake/
LOCATION:Online
ATTACH;FMTTYPE=image/webp:https://www.grassrootsworkspace.com/wp-content/uploads/2024/06/Kumo.webp
END:VEVENT
BEGIN:VEVENT
DTSTART;TZID=UTC:20240702T170000
DTEND;TZID=UTC:20240702T200000
DTSTAMP:20260425T234735
CREATED:20240520T134121Z
LAST-MODIFIED:20240520T134121Z
UID:7700-1719939600-1719950400@www.grassrootsworkspace.com
SUMMARY:OBN BioTuesday: A Spotlight on Oncology Precision Prevention Treatments and the Expected Impact on People with High-Risk Conditions
DESCRIPTION:OBN are holding their next BioTuesday event on 2 July\, in collaboration with Oxford Cancer\, the BioEscalator and the University of Oxford’s Business Partnerships Office\, where they will be spotlighting: \n‘Oncology Precision Prevention Treatments and  \nthe Expected Impact on People with High-Risk Conditions’ \nResearch and clinical trials in cancer prevention are critical for improving patient outcomes and reducing pressure on healthcare systems. This new field of precision prevention exploits biological insights into risk factors and cancer development to precisely target interventions to individuals at high risk\, with the aim of delaying or preventing cancer. \nOxford University hosts the UK’s first and only Cancer Research UK-accredited trials centre specialising in cancer precision prevention studies and is changing the way that these trials are run. Compared to traditional cancer prevention trials\, precision prevention trials are more focused\, smaller and shorter\, and thus more attractive to commercial timelines. \nExpert speakers at this event will highlight the innovations in cancer prevention trials and explore the impact on pharma and people affected by a high-risk condition. \nOutline Programme: \n17:00 – 17:30 – Registration & networking \n17:30 – 19:00 – Presentations & discussion: \nIntroductory keynote from Sarah Blagden\, Professor of Experimental Oncology\, University of Oxford  \nFollowed by a Chaired discussion with: \n\nAnna Fry\, PPI representative\nKirsty Wydenbach\, Head of Regulatory Strategy at Weatherden \nCatherine Pollard\, Senior Director Strategic Operations UK\, Clinical Development at Moderna\n\n19:00 – 20:00 – Networking\, drinks & nibbles \n   Register Now
URL:https://www.grassrootsworkspace.com/event/obn-biotuesday-a-spotlight-on-oncology-precision-prevention-treatments-and-the-expected-impact-on-people-with-high-risk-conditions/
LOCATION:BioEscalator Innovation Building\, Old Road Campus\, Roosevelt Drive\, OX3 7FZ\, Oxford
ATTACH;FMTTYPE=image/jpeg:https://www.grassrootsworkspace.com/wp-content/uploads/2024/01/OBN-logo.jpg
END:VEVENT
END:VCALENDAR