BEGIN:VCALENDAR
VERSION:2.0
PRODID:-//Grassroots - ECPv6.15.20//NONSGML v1.0//EN
CALSCALE:GREGORIAN
METHOD:PUBLISH
X-WR-CALNAME:Grassroots
X-ORIGINAL-URL:https://www.grassrootsworkspace.com
X-WR-CALDESC:Events for Grassroots
REFRESH-INTERVAL;VALUE=DURATION:PT1H
X-Robots-Tag:noindex
X-PUBLISHED-TTL:PT1H
BEGIN:VTIMEZONE
TZID:UTC
BEGIN:STANDARD
TZOFFSETFROM:+0000
TZOFFSETTO:+0000
TZNAME:UTC
DTSTART:20230101T000000
END:STANDARD
END:VTIMEZONE
BEGIN:VEVENT
DTSTART;TZID=UTC:20240531T150000
DTEND;TZID=UTC:20240531T170000
DTSTAMP:20260426T011638
CREATED:20240517T083218Z
LAST-MODIFIED:20240517T083430Z
UID:7696-1717167600-1717174800@www.grassrootsworkspace.com
SUMMARY:Wine Down Friday at Grassroots!
DESCRIPTION:Join us on the last Friday of the month for a glass of wine and a late lunch here at Grassroots! \nWe like to treat our members for all their hard work and for being so wonderful! \nThis will take place on the 31st of May\, 3 pm onwards in the Grassroots kitchen. \nIf you are a member here at Grassroots and have any ideas on events you’d like to take place\, please do let us know.
URL:https://www.grassrootsworkspace.com/event/wine-down-friday-at-grassroots/
LOCATION:Grassroots Workspace\, 46 Woodstock Road\, Oxford\, OX2 6HT\, United Kingdom
ATTACH;FMTTYPE=image/jpeg:https://www.grassrootsworkspace.com/wp-content/uploads/2024/05/Capture.jpg
END:VEVENT
END:VCALENDAR